BEGIN:VCALENDAR
PRODID:NingEventWidget-v1
VERSION:2.0
METHOD:PUBLISH
BEGIN:VTIMEZONE
TZID:America/Los_Angeles
X-LIC-LOCATION:America/Los_Angeles
BEGIN:DAYLIGHT
TZOFFSETFROM:-0800
TZOFFSETTO:-0700
TZNAME:PDT
DTSTART:19700308T020000
RRULE:FREQ=YEARLY;BYMONTH=3;BYDAY=2SU
END:DAYLIGHT
BEGIN:STANDARD
TZOFFSETFROM:-0700
TZOFFSETTO:-0800
TZNAME:PST
DTSTART:19701101T020000
RRULE:FREQ=YEARLY;BYMONTH=11;BYDAY=1SU
END:STANDARD
END:VTIMEZONE
BEGIN:VEVENT
UID:1464587:Event:314145
DTSTAMP:20260421T035816Z
SUMMARY:Mayer Hawthorne (Atlanta)
DESCRIPTION:\n\n\n\nMayer Hawthorne\n\n\nDetails: Mayer Hawthorne, Q
 uadron\n\n\nCenter Stage Theatre Atlanta, GA\n\n Sat,  02/22/14  
 09:00 PM\n\n Find  Tickets »\n\n\n\n\n \n\nFor more information v
 isit https://trueskool.com/events/mayer-hawthorne-atlanta
DTSTART;TZID=America/Los_Angeles:20140222T210000
DTEND;TZID=America/Los_Angeles:20140222T230000
CATEGORIES:atlanta
LOCATION:Center Stage Theatre, Atlanta
WEBSITE:
URL:
CONTACT:
ORGANIZER;CN="Editor's Pick":https://trueskool.com/profile/RentheVinyl
 Archaeologist
ATTACH;FMTTYPE="image/jpeg":http://storage.ning.com/topology/rest/1.0/
 file/get/2247957133?profile=original
ATTENDEE;ROLE=REQ-PARTICIPANT;PARTSTAT=ACCEPTED;RSVP=TRUE;CN="Editor's
  Pick":https://trueskool.com/profile/RentheVinylArchaeologist
END:VEVENT
END:VCALENDAR
