BEGIN:VCALENDAR
PRODID:NingEventWidget-v1
VERSION:2.0
METHOD:PUBLISH
BEGIN:VTIMEZONE
TZID:America/Los_Angeles
X-LIC-LOCATION:America/Los_Angeles
BEGIN:DAYLIGHT
TZOFFSETFROM:-0800
TZOFFSETTO:-0700
TZNAME:PDT
DTSTART:19700308T020000
RRULE:FREQ=YEARLY;BYMONTH=3;BYDAY=2SU
END:DAYLIGHT
BEGIN:STANDARD
TZOFFSETFROM:-0700
TZOFFSETTO:-0800
TZNAME:PST
DTSTART:19701101T020000
RRULE:FREQ=YEARLY;BYMONTH=11;BYDAY=1SU
END:STANDARD
END:VTIMEZONE
BEGIN:VEVENT
UID:1464587:Event:42912
DTSTAMP:20260421T001453Z
SUMMARY:May 1st Fundraiser for Immigrant Rights
DESCRIPTION:Event to raise funds to repay the costs of last year's May
  1st march for immigrant rights & to begin raising funds for the highl
 y necessary one next year. The event will be at SF Sub-Mission, we wil
 l have 3 awesome bands (www.thankyoujulius.com download their songs fo
 r FREE and Renee Asteria), DJ Stepwise & DJ Chango Julius will be spin
 ning everything from afro-diaspora, cumbias, merengue and more. We wil
 l also be showing \"We are still here\", a film that documents the pol
 ice brutality of the LAPD on May 1st, 2007 at MacArthur Park in Los An
 geles.\n$10 donation\n\nOther artists recently added to the venue: Rep
 orte Ilegal & Vomito Lirico\n\nhttp://www.myspace.com/changojulius\nht
 tp://www.myspace.com/mariaremos\nhttp://www.myspace.com/reneeasteria\n
 http://www.myspace.com/vomitoliriko\nhttp://www.myspace.com/reporteile
 galmusica\nand all the way f...rom Argentina http://www.myspace.com/st
 epwisedj\nfor questions call 619-274-0894\n\n\"Whatever country you ar
 e from, the worker's struggle will be won!\" \"Nativa o extrangera, la
  misma clase obrera!\"\n\nWe are looking to collaborate with more arti
 sts, hit us up!\n-------\n\nFried potato tacos with salsa & hibiscus w
 ater :-)\n\nFor more information visit https://trueskool.com/events/ma
 y-1st-fundraiser-for
DTSTART;TZID=America/Los_Angeles:20091113T200000
DTEND;TZID=America/Los_Angeles:20091114T010000
CATEGORIES:reggae, hiphop, salsa, cumbia, merengue
LOCATION:SF-Submission
WEBSITE:http://maps.google.com/maps?f=q&hl=en&q=2183+Mission+Street+(b
 etween+17th+and+18th)%2C+San+Francisco%2C+CA
URL:http://maps.google.com/maps?f=q&hl=en&q=2183+Mission+Street+(betwe
 en+17th+and+18th)%2C+San+Francisco%2C+CA
CONTACT:619-274-0894
ORGANIZER:May 1st Coalition for Immigrant Rights & Movement for an Unc
 onditional Amnesty
ATTACH;FMTTYPE="image/jpeg":http://storage.ning.com/topology/rest/1.0/
 file/get/2187313676?profile=original
ATTENDEE;ROLE=REQ-PARTICIPANT;PARTSTAT=ACCEPTED;RSVP=TRUE;CN="Jazmin M
 orelos":https://trueskool.com/profile/JazminMorelos
END:VEVENT
END:VCALENDAR
