BEGIN:VCALENDAR
PRODID:NingEventWidget-v1
VERSION:2.0
METHOD:PUBLISH
BEGIN:VTIMEZONE
TZID:America/Los_Angeles
X-LIC-LOCATION:America/Los_Angeles
BEGIN:DAYLIGHT
TZOFFSETFROM:-0800
TZOFFSETTO:-0700
TZNAME:PDT
DTSTART:19700308T020000
RRULE:FREQ=YEARLY;BYMONTH=3;BYDAY=2SU
END:DAYLIGHT
BEGIN:STANDARD
TZOFFSETFROM:-0700
TZOFFSETTO:-0800
TZNAME:PST
DTSTART:19701101T020000
RRULE:FREQ=YEARLY;BYMONTH=11;BYDAY=1SU
END:STANDARD
END:VTIMEZONE
BEGIN:VEVENT
UID:1464587:Event:281323
DTSTAMP:20260421T172239Z
SUMMARY:Masta Ace
DESCRIPTION:Legendary Masta Ace will be at the Blue Lamp, December 9th
  along with Zoolay, Freas (Addict Merchants), Kings Records, Three the
  Hard Way, and  Deejays, Boogalicious and Mike B. will provide the so
 undtrack ambiance for the evening. Tix are $10 and 21+Up.\n\nFor more 
 information visit https://trueskool.com/events/masta-ace
DTSTART;TZID=America/Los_Angeles:20131209T200000
DTEND;TZID=America/Los_Angeles:20131210T010000
CATEGORIES:sacramento
LOCATION:Blue Lamp, Sacramento
WEBSITE:http://www.bluelamp.com
URL:http://www.bluelamp.com
CONTACT:916-455-3400
ORGANIZER:Twelves Wax
ATTACH;FMTTYPE="image/jpeg":http://storage.ning.com/topology/rest/1.0/
 file/get/2247953952?profile=original
ATTENDEE;ROLE=REQ-PARTICIPANT;PARTSTAT=ACCEPTED;RSVP=TRUE;CN=Nino:http
 s://trueskool.com/profile/Nino
END:VEVENT
END:VCALENDAR
