BEGIN:VCALENDAR
PRODID:NingEventWidget-v1
VERSION:2.0
METHOD:PUBLISH
BEGIN:VTIMEZONE
TZID:America/Los_Angeles
X-LIC-LOCATION:America/Los_Angeles
BEGIN:DAYLIGHT
TZOFFSETFROM:-0800
TZOFFSETTO:-0700
TZNAME:PDT
DTSTART:19700308T020000
RRULE:FREQ=YEARLY;BYMONTH=3;BYDAY=2SU
END:DAYLIGHT
BEGIN:STANDARD
TZOFFSETFROM:-0700
TZOFFSETTO:-0800
TZNAME:PST
DTSTART:19701101T020000
RRULE:FREQ=YEARLY;BYMONTH=11;BYDAY=1SU
END:STANDARD
END:VTIMEZONE
BEGIN:VEVENT
UID:1464587:Event:667042
DTSTAMP:20260422T044953Z
SUMMARY:Masta Ace Live in San Francisco
DESCRIPTION:ENTER TO WIN A PAIR OF TICKETS. WINNER WILL BE DRAWN RANDO
 MLY AND ANNOUNCED 2 DAYS PRIOR TO EVENT.  \r\nSATURDAY, SEPT 30\r\nMas
 ta Ace\r\nHip Hop legend Masta Ace is coming to San Francisco and grac
 ing the stage at the local staple Piano Fight. With over 30 years stro
 ng in the industry Masta Ace has changed hip hop with his raw lyrics a
 nd potent story telling. Breaking into the industry with the 1988 clas
 sic \"The Symphony\" Ace has stayed a prominent figure in the culture 
 while others have faded away. His work has placed him in the pantheon 
 of rappers like Rakim, Sean Price, and KRS-One while inspiring the sty
 les of fellow giants like Eminem. The seminal album drop \"Disposable 
 Arts\" cemented his title as Masta and introduced him to a whole new d
 emographic of listeners. If you have to go to one Hip Hop show this mo
 nth do yourself a favor and come see Masta Ace prove the haters wrong 
 and show that hip hop alive and well.\r\n\r\n \r\n\r\n\r\nAdditional 
 performances by:\r\n\r\n\r\nWatzreal\r\n\r\n\r\nCozmosts\r\n\r\n\r\nWa
 ke Self\r\n\r\n\r\nDef-I \r\n\r\n\r\n \r\n\r\n\r\nWith DJ Powermalu &
  DJ Mike in the mix \r\n\r\n@ Piano Fight, 144 Taylor St., San Franci
 sco, CA\r\n21+/$15/9pm-12:30\r\nMore info: https://www.facebook.com/e
 vents/287998175019989\r\n\n\nFor more information visit https://truesk
 ool.com/events/masta-ace-live-in-san-francisco
DTSTART;TZID=America/Los_Angeles:20170930T210000
DTEND;TZID=America/Los_Angeles:20171001T003000
CATEGORIES:"san francisco ", "bay area", sf
LOCATION:Piano Fight, San Francisco, CA
WEBSITE:https://www.facebook.com/events/287998175019989/?acontext=%7B%
 22source%22%3A22%2C%22action_history%22%3A%22%5B%7B%5C%22surface%5C%22
 %3A%5C%22timeline%5C%22%2C%5C%22mechanism%5C%22%3A%5C%22surface%5C%22%
 2C%5C%22extra_data%5C%22%3A%5B%5D%7D%5D%22%2C%22has_source%22%3Atrue%7
 D&amp;amp;amp;amp;source=22&amp;amp;amp;amp;action_history=%5B%7B%22su
 rface%22%3A%22timeline%22%2C%22mechanism%22%3A%22surface%22%2C%22extra
 _data%22%3A%5B%5D%7D%5D&amp;amp;amp;amp;has_source=1&amp;amp;amp;amp;f
 ref=mentions
URL:https://www.facebook.com/events/287998175019989/?acontext=%7B%22so
 urce%22%3A22%2C%22action_history%22%3A%22%5B%7B%5C%22surface%5C%22%3A%
 5C%22timeline%5C%22%2C%5C%22mechanism%5C%22%3A%5C%22surface%5C%22%2C%5
 C%22extra_data%5C%22%3A%5B%5D%7D%5D%22%2C%22has_source%22%3Atrue%7D&am
 p;amp;amp;amp;source=22&amp;amp;amp;amp;action_history=%5B%7B%22surfac
 e%22%3A%22timeline%22%2C%22mechanism%22%3A%22surface%22%2C%22extra_dat
 a%22%3A%5B%5D%7D%5D&amp;amp;amp;amp;has_source=1&amp;amp;amp;amp;fref=
 mentions
CONTACT:
ORGANIZER:Watzreal
ATTACH;FMTTYPE="image/jpeg":http://storage.ning.com/topology/rest/1.0/
 file/get/2248000702?profile=original
ATTENDEE;ROLE=REQ-PARTICIPANT;PARTSTAT=ACCEPTED;RSVP=TRUE;CN="benjamin
  white":https://trueskool.com/profile/benjaminwhite
ATTENDEE;ROLE=REQ-PARTICIPANT;PARTSTAT=ACCEPTED;RSVP=TRUE;CN="Elisa Bj
 eldanes":https://trueskool.com/profile/ElisaBjeldanes
END:VEVENT
END:VCALENDAR
