BEGIN:VCALENDAR
PRODID:NingEventWidget-v1
VERSION:2.0
METHOD:PUBLISH
BEGIN:VTIMEZONE
TZID:America/Los_Angeles
X-LIC-LOCATION:America/Los_Angeles
BEGIN:DAYLIGHT
TZOFFSETFROM:-0800
TZOFFSETTO:-0700
TZNAME:PDT
DTSTART:19700308T020000
RRULE:FREQ=YEARLY;BYMONTH=3;BYDAY=2SU
END:DAYLIGHT
BEGIN:STANDARD
TZOFFSETFROM:-0700
TZOFFSETTO:-0800
TZNAME:PST
DTSTART:19701101T020000
RRULE:FREQ=YEARLY;BYMONTH=11;BYDAY=1SU
END:STANDARD
END:VTIMEZONE
BEGIN:VEVENT
UID:1464587:Event:66173
DTSTAMP:20260420T130558Z
SUMMARY:Massive Attack, Thievery Corporation
DESCRIPTION:Massive Attack\nThievery Corporation\n\nThe Greek Theatre,
  UC-Berkeley\nHearst & Gayley\nBerkeley CA 94720\nshow 7:00PM\npurchas
 e tickets\n510-809-0100\n \n\nFor more information visit https://trues
 kool.com/events/massive-attack-thievery
DTSTART;TZID=America/Los_Angeles:20101106T190000
DTEND;TZID=America/Los_Angeles:20101107T230000
CATEGORIES:berkeley, ca
LOCATION:The Greek Theatre, Berkeley, CA
WEBSITE:http://www.apeconcerts.com/popArtist07.cfm?cID=2727
URL:http://www.apeconcerts.com/popArtist07.cfm?cID=2727
CONTACT:
ORGANIZER:Another Planet Entertainment
ATTACH;FMTTYPE="image/jpeg":http://storage.ning.com/topology/rest/1.0/
 file/get/2247897632?profile=original
ATTENDEE;ROLE=REQ-PARTICIPANT;PARTSTAT=ACCEPTED;RSVP=TRUE;CN=DirtyNuke
 s:https://trueskool.com/profile/DirtyNukes
ATTENDEE;ROLE=REQ-PARTICIPANT;PARTSTAT=ACCEPTED;RSVP=TRUE;CN="Ren the 
 Vinyl Archaeologist":https://trueskool.com/profile/xh51jvilojur
END:VEVENT
END:VCALENDAR
