BEGIN:VCALENDAR
PRODID:NingEventWidget-v1
VERSION:2.0
METHOD:PUBLISH
BEGIN:VTIMEZONE
TZID:America/Los_Angeles
X-LIC-LOCATION:America/Los_Angeles
BEGIN:DAYLIGHT
TZOFFSETFROM:-0800
TZOFFSETTO:-0700
TZNAME:PDT
DTSTART:19700308T020000
RRULE:FREQ=YEARLY;BYMONTH=3;BYDAY=2SU
END:DAYLIGHT
BEGIN:STANDARD
TZOFFSETFROM:-0700
TZOFFSETTO:-0800
TZNAME:PST
DTSTART:19701101T020000
RRULE:FREQ=YEARLY;BYMONTH=11;BYDAY=1SU
END:STANDARD
END:VTIMEZONE
BEGIN:VEVENT
UID:1464587:Event:677101
DTSTAMP:20260421T110556Z
SUMMARY:MASEGO
DESCRIPTION:MASEGO\r\nMezzanine San Francisco, CA Sunday, November 11,
  2018 Doors: 8:30pm | Show: 9:00pm\r\nThis event is 21 and over.\r\n$2
 0.00 – General Admission\n\nFor more information visit https://trues
 kool.com/events/masego
DTSTART;TZID=America/Los_Angeles:20181111T210000
DTEND;TZID=America/Los_Angeles:20181111T230000
CATEGORIES:"bay area", oakland, "san francisco", "san jose", berkeley
LOCATION:Mezzanine, San Francisco
WEBSITE:http://apeconcerts.com/events/masego/#!
URL:http://apeconcerts.com/events/masego/#!
CONTACT:
ORGANIZER;CN="Editor's Pick":https://trueskool.com/profile/RentheVinyl
 Archaeologist
ATTACH;FMTTYPE="image/jpeg":http://storage.ning.com/topology/rest/1.0/
 file/get/2248009066?profile=original
ATTENDEE;ROLE=REQ-PARTICIPANT;PARTSTAT=ACCEPTED;RSVP=TRUE;CN="Editor's
  Pick":https://trueskool.com/profile/RentheVinylArchaeologist
END:VEVENT
END:VCALENDAR
