BEGIN:VCALENDAR
PRODID:NingEventWidget-v1
VERSION:2.0
METHOD:PUBLISH
BEGIN:VTIMEZONE
TZID:America/Los_Angeles
X-LIC-LOCATION:America/Los_Angeles
BEGIN:DAYLIGHT
TZOFFSETFROM:-0800
TZOFFSETTO:-0700
TZNAME:PDT
DTSTART:19700308T020000
RRULE:FREQ=YEARLY;BYMONTH=3;BYDAY=2SU
END:DAYLIGHT
BEGIN:STANDARD
TZOFFSETFROM:-0700
TZOFFSETTO:-0800
TZNAME:PST
DTSTART:19701101T020000
RRULE:FREQ=YEARLY;BYMONTH=11;BYDAY=1SU
END:STANDARD
END:VTIMEZONE
BEGIN:VEVENT
UID:1464587:Event:671655
DTSTAMP:20260421T094452Z
SUMMARY:Marty Grimes
DESCRIPTION:ENTER TO WIN A PAIR OF TICKETS. WINNER WILL BE DRAWN RANDO
 MLY AND ANNOUNCED 2 DAYS PRIOR TO EVENT.\r\n FRIDAY, MAR 2 Marty Grime
 s ft. Caleon Fox, Daghe, Guapdad 4000, Beejus & Loaded Up Ent.\r\n@ Co
 rnerstone, Berkeley Doors: 8:00 pm / Show: 9:00 pm >> BUY TICKETS\r\n\
 n\nFor more information visit https://trueskool.com/events/marty-grime
 s
DTSTART;TZID=America/Los_Angeles:20180302T200000
DTEND;TZID=America/Los_Angeles:20180302T230000
CATEGORIES:"bay area", berkeley
LOCATION:The UC Theatre, Berkeley
WEBSITE:https://www.ticketfly.com/purchase/event/1597856?_ga=2.2364344
 98.2114455433.1513203394-605064950.1509474565
URL:https://www.ticketfly.com/purchase/event/1597856?_ga=2.236434498.2
 114455433.1513203394-605064950.1509474565
CONTACT:
ORGANIZER:The UC Theatre
ATTACH;FMTTYPE="image/jpeg":http://storage.ning.com/topology/rest/1.0/
 file/get/2248004930?profile=original
ATTENDEE;ROLE=REQ-PARTICIPANT;PARTSTAT=ACCEPTED;RSVP=TRUE;CN="Editor's
  Pick":https://trueskool.com/profile/RentheVinylArchaeologist
END:VEVENT
END:VCALENDAR
