BEGIN:VCALENDAR
PRODID:NingEventWidget-v1
VERSION:2.0
METHOD:PUBLISH
BEGIN:VTIMEZONE
TZID:America/Los_Angeles
X-LIC-LOCATION:America/Los_Angeles
BEGIN:DAYLIGHT
TZOFFSETFROM:-0800
TZOFFSETTO:-0700
TZNAME:PDT
DTSTART:19700308T020000
RRULE:FREQ=YEARLY;BYMONTH=3;BYDAY=2SU
END:DAYLIGHT
BEGIN:STANDARD
TZOFFSETFROM:-0700
TZOFFSETTO:-0800
TZNAME:PST
DTSTART:19701101T020000
RRULE:FREQ=YEARLY;BYMONTH=11;BYDAY=1SU
END:STANDARD
END:VTIMEZONE
BEGIN:VEVENT
UID:1464587:Event:30008
DTSTAMP:20260421T050551Z
SUMMARY:Mark Knight
DESCRIPTION:Mark Knight [Toolroom Records UK] with supporting DJs... R
 ooz and Bo\n\nMark Knight is on his way to becoming one of the biggest
  DJs in the world, come see why!!!\nFor more info on Mark Knight\n\nAW
 ARDS...\n\nVoted #42 DJ in the World in 2008 [DJMag.com]\nNominated \"
 BEST UNDERGROUND DANCE TRACK\" of 2009 [International Dance Music Awar
 ds]\nNominated \"BEST TECH HOUSE ARTIST\" of 2008 [Beatport Music Awar
 ds]\nNominated \"BEST TECH HOUSE TRACK\" of 2008 [Beatport Music Award
 s]\nNominated \"BEST RECORD LABEL PROMOTER OR EXEC\" [International Da
 nce Music Awards]\n\n\n\nMark Knight has forged himself a reputation a
 s one of the foremost house producers on the planet, shaping the scene
  with his Toolroom imprint. A string of consistently hot productions a
 nd skilfully written remixes (from Kylie through to Underworld) have s
 ecured ongoing success at the top of the dance charts - highlights of 
 this year include Mark’s INCREDIBLE remake of Laurent Garnier’s ep
 ic ‘Man With The Red Face’ (officially Beatport’s FASTEST ever s
 elling record, and 1 on their chart for 3 consecutive weeks!!) Last ye
 ar’s hits include his 'Colombian Soul' collaboration with D.Rameriez
  (one of the biggest records to come out of 2007) and a destructive mi
 x of Axwell, Angello, Ingrosso and Laidback Luke's 'Get Dumb'.\n\nHavi
 ng stormed the DJ Mag Top 100 Poll as one of this year’s highest new
  entries - Mark is now officially ranked 51 in the world, and for the 
 second year running has won ‘Best DJ’ at the KISS 100 Awards. Sett
 ing the standard Mark is a DJ who’s technical ability is second to n
 one – his sets are a real musical journey that range from driving te
 chy sounds through to deep progressive main room beats, and now with t
 he added VJ element Mark pushes the boundaries of technology even furt
 her, Djing both audio and video via live DVD mixing, which allows him 
 to really stamp his personality on the night, expressing himself throu
 gh the images and custom video content, connecting with his audience o
 n another level.\n\nIt’s been a steady rise for Mark from securing h
 is residency at the infamous Ministry of Sound in 2003 - the place whe
 re his ability to command and rock a dance floor has since been both t
 ested and truly perfected. In 2004 with a soaring profile and a growin
 g fan base, Mark launched ‘Toolroom Records’ – initially as an o
 utput for his own production. As house music returned to its undergrou
 nd roots the label embodied this shift and began re-shaping the scene 
 with its own distinctive sound - the ‘Toolroom Sound’, releasing q
 uality, cutting edge tracks at a time when the scene was lacking origi
 nality.\n\nNever one to rest on his laurels Mark launched ‘Toolroom 
 Knights’ at Amsterdam’s ADE (Amsterdam Dance Event) in October 200
 6 to an amzed crowd. The night, based around the label’s (Toolroom R
 ecords), and Mark’s distinctive sound introduced the underground sou
 nd of Toolroom to the overground, and have gone on to host parties at 
 key cities across the world. Already with established residencies at M
 inistry of Sound (London), Redlight (Paris), Cocoon (Frankfurt), Sanke
 y’s (Manchester) This summer Mark raises the bar and takes Toolroom 
 Knights to the White Isle kicking off it’s first Ibiza residency, ho
 sting the infamous Terrace at Amnesia on Tuesday’s (launching July 1
 st)\n\nFrom the start of his Ministry residency in 2003 through to the
  launch of ‘Toolroom Knights’, and now having fully embraced the a
 udio-visual technology Mark Knight is a DJ/producer whose dedication a
 nd talent are apparent within his consistently mind-blowing production
 s, DJ sets and parties. Mark has established his status as a world pre
 mier DJ/producer, and continues to build a solid worldwide fan base.\n
 \nwww.djmarkknight.com\n\nwww.toolroomrecords.com\n\nFor more informat
 ion visit https://trueskool.com/events/mark-knight
DTSTART;TZID=America/Los_Angeles:20090418T210000
DTEND;TZID=America/Los_Angeles:20090419T040000
CATEGORIES:electronic
LOCATION:Mighty, San Francisco
WEBSITE:http://www.mighty119.com
URL:http://www.mighty119.com
CONTACT:
ORGANIZER;CN="Carey Kopp":https://trueskool.com/profile/k85
ATTACH;FMTTYPE="image/jpeg":http://storage.ning.com/topology/rest/1.0/
 file/get/2247855557?profile=original
ATTENDEE;ROLE=REQ-PARTICIPANT;PARTSTAT=ACCEPTED;RSVP=TRUE;CN="Carey Ko
 pp":https://trueskool.com/profile/k85
END:VEVENT
END:VCALENDAR
