BEGIN:VCALENDAR
PRODID:NingEventWidget-v1
VERSION:2.0
METHOD:PUBLISH
BEGIN:VTIMEZONE
TZID:America/Los_Angeles
X-LIC-LOCATION:America/Los_Angeles
BEGIN:DAYLIGHT
TZOFFSETFROM:-0800
TZOFFSETTO:-0700
TZNAME:PDT
DTSTART:19700308T020000
RRULE:FREQ=YEARLY;BYMONTH=3;BYDAY=2SU
END:DAYLIGHT
BEGIN:STANDARD
TZOFFSETFROM:-0700
TZOFFSETTO:-0800
TZNAME:PST
DTSTART:19701101T020000
RRULE:FREQ=YEARLY;BYMONTH=11;BYDAY=1SU
END:STANDARD
END:VTIMEZONE
BEGIN:VEVENT
UID:1464587:Event:311434
DTSTAMP:20260420T232228Z
SUMMARY:MARK FARINA/Mushroom Jazz + J Boogie Dubtronic Science + DJ He
 ylove live in OAKLAND!
DESCRIPTION:Something exciting for those who love good music! \nMARK F
 ARINA brings a special set of Mushroom Jazz-House Thursday February 13
 th @ The New Parish!!\n\n<< Special guests >>\n*J BOOGIE'S DUBTRONIC S
 CIENCE \nfeaturing Aima The Dreamer & Deuce Eclipse (Bang Data)\n\n*D
 J HEYLOVE (thePeople)\n___________________________________________\n\n
 Get your TICKETS @ http://ticketf.ly/1lxHJSC\n \nMARK FARINA-Mushroo
 m Jazz\n\n\n \nJ-BOGGIE DUBTRONIC SCIENCE\n\n\n \nDJ HEYLOVE (thePeo
 ple)\n\n \n \n \n\nFor more information visit https://trueskool.com
 /events/mark-farina-mushroom-jazz-j-boogie-dubtronic-science-dj-heylov
 e
DTSTART;TZID=America/Los_Angeles:20140213T200000
DTEND;TZID=America/Los_Angeles:20140214T010000
CATEGORIES:oakland, san, francisco, bay, area
LOCATION:The New Parish
WEBSITE:http://ticketf.ly/1lxHJSC
URL:http://ticketf.ly/1lxHJSC
CONTACT:
ORGANIZER:Steelo Entertainment & Parish Group
ATTACH;FMTTYPE="image/jpeg":http://storage.ning.com/topology/rest/1.0/
 file/get/2247956704?profile=original
ATTENDEE;ROLE=REQ-PARTICIPANT;PARTSTAT=ACCEPTED;RSVP=TRUE;CN=RAW-G:htt
 ps://trueskool.com/profile/RAWG
END:VEVENT
END:VCALENDAR
