BEGIN:VCALENDAR
PRODID:NingEventWidget-v1
VERSION:2.0
METHOD:PUBLISH
BEGIN:VTIMEZONE
TZID:America/Los_Angeles
X-LIC-LOCATION:America/Los_Angeles
BEGIN:DAYLIGHT
TZOFFSETFROM:-0800
TZOFFSETTO:-0700
TZNAME:PDT
DTSTART:19700308T020000
RRULE:FREQ=YEARLY;BYMONTH=3;BYDAY=2SU
END:DAYLIGHT
BEGIN:STANDARD
TZOFFSETFROM:-0700
TZOFFSETTO:-0800
TZNAME:PST
DTSTART:19701101T020000
RRULE:FREQ=YEARLY;BYMONTH=11;BYDAY=1SU
END:STANDARD
END:VTIMEZONE
BEGIN:VEVENT
UID:1464587:Event:841002
DTSTAMP:20260419T153919Z
SUMMARY:Mark Farina
DESCRIPTION:Mark Farina & Homero Espinosa's 7th Annual Birthday Bash\r
 \nSat, Mar 21, 2026 at 02:00 PM PDT\r\nThe Midway 900 Marin Street, Sa
 n Francisco, CA\n\nFor more information visit https://trueskool.com/ev
 ents/mark-farina-3
DTSTART;TZID=America/Los_Angeles:20260321T140000
DTEND;TZID=America/Los_Angeles:20260321T233000
CATEGORIES:"bay area", oakland, "san francisco", "san jose", berkeley
LOCATION:THE MIDWAY, SF
WEBSITE:https://www.tixr.com/groups/midwaysf/events/mark-farina-homero
 -espinosa-s-7th-annual-birthday-bash-165099?utm_source=themidway&amp;u
 tm_medium=venuewebsite
URL:https://www.tixr.com/groups/midwaysf/events/mark-farina-homero-esp
 inosa-s-7th-annual-birthday-bash-165099?utm_source=themidway&amp;utm_m
 edium=venuewebsite
CONTACT:
ORGANIZER;CN="Editor's Pick":https://trueskool.com/profile/RentheVinyl
 Archaeologist
ATTACH;FMTTYPE="image/jpeg":https://storage.ning.com/topology/rest/1.0
 /file/get/31002201058?profile=original
ATTENDEE;ROLE=REQ-PARTICIPANT;PARTSTAT=ACCEPTED;RSVP=TRUE;CN="Editor's
  Pick":https://trueskool.com/profile/RentheVinylArchaeologist
END:VEVENT
END:VCALENDAR
