BEGIN:VCALENDAR
PRODID:NingEventWidget-v1
VERSION:2.0
METHOD:PUBLISH
BEGIN:VTIMEZONE
TZID:America/Los_Angeles
X-LIC-LOCATION:America/Los_Angeles
BEGIN:DAYLIGHT
TZOFFSETFROM:-0800
TZOFFSETTO:-0700
TZNAME:PDT
DTSTART:19700308T020000
RRULE:FREQ=YEARLY;BYMONTH=3;BYDAY=2SU
END:DAYLIGHT
BEGIN:STANDARD
TZOFFSETFROM:-0700
TZOFFSETTO:-0800
TZNAME:PST
DTSTART:19701101T020000
RRULE:FREQ=YEARLY;BYMONTH=11;BYDAY=1SU
END:STANDARD
END:VTIMEZONE
BEGIN:VEVENT
UID:1464587:Event:384656
DTSTAMP:20260421T021118Z
SUMMARY:Mark de Clive-Lowe's CHURCH: Album Launch Oakland Edition
DESCRIPTION:\nCHURCH ~ Album Launch ~ Oakland Edition  CHURCH is Mark 
 de Clive-Lowe’s LA/NYC clubnight party that he describes as “equal
  parts jazz club, electronic remix experiment and dance party”. It t
 ells the story of his personal musical trajectory over the course of a
  night. Featuring a delicious combination of Mark's favoritemusicians,
  singers, MCs, DJs and surprise guests, CHURCH has made the rounds wor
 ldwide and the heads all agree, it's incredibly special. The new album
  by the same name has captured the vibe of the live show as well as ea
 rs and hearts of our global musichead community. It's beautiful. Banan
 as Inc. is trilled to invite you to this very special event at The New
  Parish. We can't wait to hear this album performed LIVE!   http://Md
 CL.tv/  CHURCH ~ Album Launch ~ Oakland \n\nMARK de CLIVE-LOWE + spec
 ial guests\nNia Andrews (Janelle Monae/Common)\nBen Shepherd (ScHoolb
 oy Q/Kendrick Lamar)\nHarvey Mason (Herbie Hancock/Quincy Jones)\nJosi
 el Perez Hernandez (Cuba)\nJosh Johnson (SNAARJ)\n\n+ DJs Cali & Cec
 il (thePeople Oakland) Hosted by Bananas Inc. ( aka Amy & Jen :) The N
 ew Parish 579 18th St Oakland, CA 9PM 21+ $12 - $15 TICKETS: http://w
 ww.thenewparish.com/event/624429-church-oakland/  The good word on CHU
 RCH ...  \"an underground phenom...\" – (Okayplayer)  \"if Duke Elli
 ngton was a DJ this is what he may have done\" - (LA Weekly)  Half Jap
 anese, half New Zealand, LA-based pianist, composer, producer, DJ and 
 live remixer Mark de Clive-Lowe (MdCL) is a rare kind of musician. As 
 at-home sitting behind the grand piano as he is creating body-grooving
  beats on the fly, his sonic vocabulary fearlessly integrates everythi
 ng from classic house-music records to a full-size big band to hard-hi
 tting electronic beats… completely live. An acclaimed veteran of Lon
 don’s turn-of-the-century ‘Broken Beat’ scene, CHURCH sees MdCL 
 embrace his first love – jazz – via the filter of a life-long jour
 ney through electronics, dancefloors and across continents. Featuring 
 very special guests and surprises joining MdCL, CHURCH is \"an unmissa
 ble experience\" - (Giant Step)  \"(the) avant-garde soulful Pianist/D
 J/Producer delivers his lifetime of journeys to different musical port
 s in a concise package, seamlessly... transporting not just in genre b
 ut in emotion and spirit.\" - (Huffington Post)\n\nFor more informatio
 n visit https://trueskool.com/events/mark-de-clive-lowe-s-church-album
 -launch-oakland-edition
DTSTART;TZID=America/Los_Angeles:20140718T210000
DTEND;TZID=America/Los_Angeles:20140719T020000
CATEGORIES:oakland, bay, area
LOCATION:The New Parish, Oakland
WEBSITE:http://www.thenewparish.com/event/624429-church-oakland/
URL:http://www.thenewparish.com/event/624429-church-oakland/
CONTACT:(510) 444-7474
ORGANIZER;CN="Mark de Clive-Lowe":https://trueskool.com/profile/Markde
 CliveLowe
ATTACH;FMTTYPE="image/jpeg":http://storage.ning.com/topology/rest/1.0/
 file/get/2247963691?profile=original
ATTENDEE;ROLE=REQ-PARTICIPANT;PARTSTAT=ACCEPTED;RSVP=TRUE;CN="Mark de 
 Clive-Lowe":https://trueskool.com/profile/MarkdeCliveLowe
END:VEVENT
END:VCALENDAR
