BEGIN:VCALENDAR
PRODID:NingEventWidget-v1
VERSION:2.0
METHOD:PUBLISH
BEGIN:VTIMEZONE
TZID:America/Los_Angeles
X-LIC-LOCATION:America/Los_Angeles
BEGIN:DAYLIGHT
TZOFFSETFROM:-0800
TZOFFSETTO:-0700
TZNAME:PDT
DTSTART:19700308T020000
RRULE:FREQ=YEARLY;BYMONTH=3;BYDAY=2SU
END:DAYLIGHT
BEGIN:STANDARD
TZOFFSETFROM:-0700
TZOFFSETTO:-0800
TZNAME:PST
DTSTART:19701101T020000
RRULE:FREQ=YEARLY;BYMONTH=11;BYDAY=1SU
END:STANDARD
END:VTIMEZONE
BEGIN:VEVENT
UID:1464587:Event:61819
DTSTAMP:20260420T213041Z
SUMMARY:Marcia Griffiths
DESCRIPTION:Join us for a soul-stirring performance at Mendocino's pre
 mier boutique venue Caspar Inn presents the \"Empress of Reggae\" Marc
 ia Griffiths !! tix. on sale now! Amazing price of $20.advance, $25.do
 or\n\nFor more information visit https://trueskool.com/events/marcia-g
 riffiths
DTSTART;TZID=America/Los_Angeles:20100729T213000
DTEND;TZID=America/Los_Angeles:20100730T020000
CATEGORIES:reggae, jazz, fusion
LOCATION:Caspar Inn; Caspar, CA
WEBSITE:http://www.CasparInn.com
URL:http://www.CasparInn.com
CONTACT:707 964 - 5565
ORGANIZER;CN=Reggaehitsuphi:https://trueskool.com/profile/Reggaehitsup
 hi
ATTACH;FMTTYPE="image/jpeg":http://storage.ning.com/topology/rest/1.0/
 file/get/2247881488?profile=original
ATTENDEE;ROLE=REQ-PARTICIPANT;PARTSTAT=ACCEPTED;RSVP=TRUE;CN=Reggaehit
 suphi:https://trueskool.com/profile/Reggaehitsuphi
END:VEVENT
END:VCALENDAR
