BEGIN:VCALENDAR
PRODID:NingEventWidget-v1
VERSION:2.0
METHOD:PUBLISH
BEGIN:VTIMEZONE
TZID:America/Los_Angeles
X-LIC-LOCATION:America/Los_Angeles
BEGIN:DAYLIGHT
TZOFFSETFROM:-0800
TZOFFSETTO:-0700
TZNAME:PDT
DTSTART:19700308T020000
RRULE:FREQ=YEARLY;BYMONTH=3;BYDAY=2SU
END:DAYLIGHT
BEGIN:STANDARD
TZOFFSETFROM:-0700
TZOFFSETTO:-0800
TZNAME:PST
DTSTART:19701101T020000
RRULE:FREQ=YEARLY;BYMONTH=11;BYDAY=1SU
END:STANDARD
END:VTIMEZONE
BEGIN:VEVENT
UID:1464587:Event:54763
DTSTAMP:20260421T040026Z
SUMMARY:March and Rally to Hold Wells Fargo Accountable!
DESCRIPTION:\n\nFor more information visit https://trueskool.com/event
 s/march-and-rally-to-hold-wells
DTSTART;TZID=America/Los_Angeles:20100427T120000
DTEND;TZID=America/Los_Angeles:20100427T150000
CATEGORIES:protest, for, the, "people!"
LOCATION:Meet at Justin Herman Plaza, SF
WEBSITE:http://www.facebook.com/?ref=home#!/event.php?eid=115316288479
 765&v=wall&story_fbid=119862958025098
URL:http://www.facebook.com/?ref=home#!/event.php?eid=115316288479765&
 v=wall&story_fbid=119862958025098
CONTACT:415-864-3980
ORGANIZER:Community, Labor, Faith-Based Organizations
ATTACH;FMTTYPE="image/jpeg":http://storage.ning.com/topology/rest/1.0/
 file/get/2247876838?profile=original
ATTENDEE;ROLE=REQ-PARTICIPANT;PARTSTAT=ACCEPTED;RSVP=TRUE;CN="liana mo
 lina":https://trueskool.com/profile/lianamolina
END:VEVENT
END:VCALENDAR
