BEGIN:VCALENDAR
PRODID:NingEventWidget-v1
VERSION:2.0
METHOD:PUBLISH
BEGIN:VTIMEZONE
TZID:America/Los_Angeles
X-LIC-LOCATION:America/Los_Angeles
BEGIN:DAYLIGHT
TZOFFSETFROM:-0800
TZOFFSETTO:-0700
TZNAME:PDT
DTSTART:19700308T020000
RRULE:FREQ=YEARLY;BYMONTH=3;BYDAY=2SU
END:DAYLIGHT
BEGIN:STANDARD
TZOFFSETFROM:-0700
TZOFFSETTO:-0800
TZNAME:PST
DTSTART:19701101T020000
RRULE:FREQ=YEARLY;BYMONTH=11;BYDAY=1SU
END:STANDARD
END:VTIMEZONE
BEGIN:VEVENT
UID:1464587:Event:36883
DTSTAMP:20260421T022241Z
SUMMARY:Marcell William @ THE AIR LOUNGE/BAR 8/17/2009
DESCRIPTION:Marcell William featuring Jamie Hawkins performing LIVE Or
 iginal R&B@ THE AIR LOUNGE/BAR in Oakland on August 17th, 2009.\n\nFor
  more information visit https://trueskool.com/events/marcell-william-t
 he-air
DTSTART;TZID=America/Los_Angeles:20090817T210000
DTEND;TZID=America/Los_Angeles:20090818T010000
CATEGORIES:smooth, "r&b", soul
LOCATION:Oakland, CA
WEBSITE:
URL:
CONTACT:(510) 828-5444
ORGANIZER;CN="NiCol Payton":https://trueskool.com/profile/NiColPayton
ATTACH;FMTTYPE="image/jpeg":http://storage.ning.com/topology/rest/1.0/
 file/get/2247860389?profile=original
ATTENDEE;ROLE=REQ-PARTICIPANT;PARTSTAT=ACCEPTED;RSVP=TRUE;CN="NiCol Pa
 yton":https://trueskool.com/profile/NiColPayton
END:VEVENT
END:VCALENDAR
