BEGIN:VCALENDAR
PRODID:NingEventWidget-v1
VERSION:2.0
METHOD:PUBLISH
BEGIN:VTIMEZONE
TZID:America/Los_Angeles
X-LIC-LOCATION:America/Los_Angeles
BEGIN:DAYLIGHT
TZOFFSETFROM:-0800
TZOFFSETTO:-0700
TZNAME:PDT
DTSTART:19700308T020000
RRULE:FREQ=YEARLY;BYMONTH=3;BYDAY=2SU
END:DAYLIGHT
BEGIN:STANDARD
TZOFFSETFROM:-0700
TZOFFSETTO:-0800
TZNAME:PST
DTSTART:19701101T020000
RRULE:FREQ=YEARLY;BYMONTH=11;BYDAY=1SU
END:STANDARD
END:VTIMEZONE
BEGIN:VEVENT
UID:1464587:Event:30193
DTSTAMP:20260420T231702Z
SUMMARY:MAKI & DESERT DOGS
DESCRIPTION:MAKI - Americana. Murder Ballads. Born in the Mississippi 
 Delta and\nraised upriver in Missouri, Elizabeth and Spencer Maki grew
  up in the\nthick of traditional American music. As comfortable talkin
 g about the\nlineage of a song as a floating trip in the Ozarks, Maki 
 combines the\nacademic and biographic in their performances. Elizabeth
  matches clean\nmelodies on the banjo with an unadorned, plaintive voi
 ce. A luthier\nand guitar picker, Spencer lays down a driving rhythm o
 n an instrument\nhe knows through and through. In a unique performance
  for the Music\nBox Series, Maki will be performing an evening of trad
 itional murder\nballads complete with histories. Website: http://www.m
 yspace.com/esmaki\n\nDESERT DOGS (Michael Chopko of Dame Satan) opens 
 with intricate,\nmelodic north African desert music inspired by Tinari
 wen. Website:\nhttp://www.ghostmansion.org/chopko/desertdogs/\n\nFor m
 ore information visit https://trueskool.com/events/maki-desert-dogs
DTSTART;TZID=America/Los_Angeles:20090429T200000
DTEND;TZID=America/Los_Angeles:20090429T220000
CATEGORIES:americana, african
LOCATION:CLIMATE THEATER
WEBSITE:http://www.musicboxseries.com
URL:http://www.musicboxseries.com
CONTACT:
ORGANIZER;CN=Nobody:https://trueskool.com/profile/MadroneLounge
ATTACH;FMTTYPE="image/jpeg":http://storage.ning.com/topology/rest/1.0/
 file/get/2247855435?profile=original
ATTENDEE;ROLE=REQ-PARTICIPANT;PARTSTAT=ACCEPTED;RSVP=TRUE;CN=Nobody:ht
 tps://trueskool.com/profile/MadroneLounge
END:VEVENT
END:VCALENDAR
