BEGIN:VCALENDAR
PRODID:NingEventWidget-v1
VERSION:2.0
METHOD:PUBLISH
BEGIN:VTIMEZONE
TZID:America/Los_Angeles
X-LIC-LOCATION:America/Los_Angeles
BEGIN:DAYLIGHT
TZOFFSETFROM:-0800
TZOFFSETTO:-0700
TZNAME:PDT
DTSTART:19700308T020000
RRULE:FREQ=YEARLY;BYMONTH=3;BYDAY=2SU
END:DAYLIGHT
BEGIN:STANDARD
TZOFFSETFROM:-0700
TZOFFSETTO:-0800
TZNAME:PST
DTSTART:19701101T020000
RRULE:FREQ=YEARLY;BYMONTH=11;BYDAY=1SU
END:STANDARD
END:VTIMEZONE
BEGIN:VEVENT
UID:1464587:Event:674616
DTSTAMP:20260422T050104Z
SUMMARY:Major Artist, YoungK Preps for his Debut as a Major with singl
 e \"3 AM\"
DESCRIPTION:After YoungK'S Most recent performance at a featured Fashi
 on Show, His request to Open for YK Osiris, Being Featured in HIPHOPDX
 ,Preparing for a tour, and FAMOUS DJ AKADEMIKS TELLING THE WORLD To Pu
 rchase and Stream his single \"3 AM\" As soon as it drops on 5/22. You
 ng K has taken the media and fans by storm in the last 30 days. \"IM R
 EADY FOR THIS, Says YoungK as he prepares for his future tour and appe
 arances. There is no doubt the Ladies love YoungK, Even the ones who a
 re self confessing they will do whatever it takes to get his attention
 . Stay tuned, and Grab his single on pre-order \"3 AM\" on 5/22!\n\n\n
 \nFor more information visit https://trueskool.com/events/major-artist
 -youngk-preps-for-his-debut-as-a-major-with-single-1
DTSTART;TZID=America/Los_Angeles:20180506T000000
DTEND;TZID=America/Los_Angeles:20180506T235900
CATEGORIES:single, release
LOCATION:Worldwide #AMAZON #TIDAL #SPOTIFY #DEEZER #GOOGLE #ITUNES
WEBSITE:http://WWW.MCFL-ENT.COM
URL:http://WWW.MCFL-ENT.COM
CONTACT:
ORGANIZER:TrueSkool.com
ATTACH;FMTTYPE="image/jpeg":http://storage.ning.com/topology/rest/1.0/
 file/get/2248005790?profile=original
ATTENDEE;ROLE=REQ-PARTICIPANT;PARTSTAT=ACCEPTED;RSVP=TRUE;CN=MCFL:http
 s://trueskool.com/profile/MCFL
END:VEVENT
END:VCALENDAR
