BEGIN:VCALENDAR
PRODID:NingEventWidget-v1
VERSION:2.0
METHOD:PUBLISH
BEGIN:VTIMEZONE
TZID:America/Los_Angeles
X-LIC-LOCATION:America/Los_Angeles
BEGIN:DAYLIGHT
TZOFFSETFROM:-0800
TZOFFSETTO:-0700
TZNAME:PDT
DTSTART:19700308T020000
RRULE:FREQ=YEARLY;BYMONTH=3;BYDAY=2SU
END:DAYLIGHT
BEGIN:STANDARD
TZOFFSETFROM:-0700
TZOFFSETTO:-0800
TZNAME:PST
DTSTART:19701101T020000
RRULE:FREQ=YEARLY;BYMONTH=11;BYDAY=1SU
END:STANDARD
END:VTIMEZONE
BEGIN:VEVENT
UID:1464587:Event:51637
DTSTAMP:20260420T225133Z
SUMMARY:Mahogany Soul Series Ft/  Martin Luther, Kween + Special Guest
DESCRIPTION:Mahogany Soul Series\nft/\nMartin Luther Mccoy\nKween\nB S
 oulz\n\nResident Dj\nSake One\n\nGuest Dj\nMr. E\n\nRising stars Marti
 n Luther Mccoy, Kween and up incoming artist B Soulz performing live a
 t the Shattuck Down Low in Berkeley, Ca on Friday, April 23, 2010. Sho
 wcasing the underrated authentic soul talents of the San Francisco Bay
  Area Region. Join us for an epic night of soul music and celebration 
 . And also, Dj Sake One and Mr. E on the 1’s & 2‘s.\n\nGet your ad
 vance tickets here: http://ineffablerecords.inticketing.com/events/860
 35/Mahogany-Soul-Series--Bay-Area-Edition\n\nFor more information visi
 t https://trueskool.com/events/mahogany-soul-series-ft
DTSTART;TZID=America/Los_Angeles:20100423T210000
DTEND;TZID=America/Los_Angeles:20100424T013000
CATEGORIES:soul, funk, and, "r&b"
LOCATION:Shattuck Down Low
WEBSITE:
URL:
CONTACT:(510) 705 -1151
ORGANIZER;CN="Charlotte Logan":https://trueskool.com/profile/Charlotte
 Logan
ATTACH;FMTTYPE="image/jpeg":http://storage.ning.com/topology/rest/1.0/
 file/get/2247881215?profile=original
ATTENDEE;ROLE=REQ-PARTICIPANT;PARTSTAT=ACCEPTED;RSVP=TRUE;CN="Charlott
 e Logan":https://trueskool.com/profile/CharlotteLogan
END:VEVENT
END:VCALENDAR
