BEGIN:VCALENDAR
PRODID:NingEventWidget-v1
VERSION:2.0
METHOD:PUBLISH
BEGIN:VTIMEZONE
TZID:America/Los_Angeles
X-LIC-LOCATION:America/Los_Angeles
BEGIN:DAYLIGHT
TZOFFSETFROM:-0800
TZOFFSETTO:-0700
TZNAME:PDT
DTSTART:19700308T020000
RRULE:FREQ=YEARLY;BYMONTH=3;BYDAY=2SU
END:DAYLIGHT
BEGIN:STANDARD
TZOFFSETFROM:-0700
TZOFFSETTO:-0800
TZNAME:PST
DTSTART:19701101T020000
RRULE:FREQ=YEARLY;BYMONTH=11;BYDAY=1SU
END:STANDARD
END:VTIMEZONE
BEGIN:VEVENT
UID:1464587:Event:632121
DTSTAMP:20260421T093329Z
SUMMARY:Macy Gray (WIN TICKETS)
DESCRIPTION:    Sat 7.11\nMACY GRAY\n@ Yoshi's, 510 Embarcadero West, 
 Oakland, CA 94607\nDoors: 7:00 pm / Show: 7:30 pm \n\nFor more informa
 tion visit https://trueskool.com/events/macy-gray-win-tickets
DTSTART;TZID=America/Los_Angeles:20150711T193000
DTEND;TZID=America/Los_Angeles:20150712T230000
CATEGORIES:"bay area", oakland
LOCATION:Yoshi's, Oakland
WEBSITE:https://www.ticketfly.com/purchase/event/790985?__utma=1.26867
 3158.1431306735.1431817663.1435266115.3&__utmb=1.2.10.1435266115&__utm
 c=1&__utmx=-&__utmz=1.1431817663.2.2.utmcsr=sanfrancisco.cbslocal.com|
 utmccn=%28referral%29|utmcmd=referral|utmcct=/top-lists/best-jazz-and-
 blues-clubs-in-east-bay/&__utmv=-&__utmk=162980924
URL:https://www.ticketfly.com/purchase/event/790985?__utma=1.268673158
 .1431306735.1431817663.1435266115.3&__utmb=1.2.10.1435266115&__utmc=1&
 __utmx=-&__utmz=1.1431817663.2.2.utmcsr=sanfrancisco.cbslocal.com|utmc
 cn=%28referral%29|utmcmd=referral|utmcct=/top-lists/best-jazz-and-blue
 s-clubs-in-east-bay/&__utmv=-&__utmk=162980924
CONTACT:
ORGANIZER:Yoshi's
ATTACH;FMTTYPE="image/jpeg":http://storage.ning.com/topology/rest/1.0/
 file/get/2247976451?profile=original
ATTENDEE;ROLE=REQ-PARTICIPANT;PARTSTAT=ACCEPTED;RSVP=TRUE;CN="Elisa Bj
 eldanes":https://trueskool.com/profile/ElisaBjeldanes
ATTENDEE;ROLE=REQ-PARTICIPANT;PARTSTAT=ACCEPTED;RSVP=TRUE;CN="Ren the 
 Vinyl Archaeologist":https://trueskool.com/profile/xh51jvilojur
ATTENDEE;ROLE=REQ-PARTICIPANT;PARTSTAT=ACCEPTED;RSVP=TRUE;CN=Rebecca:h
 ttps://trueskool.com/profile/Rebecca
END:VEVENT
END:VCALENDAR
