BEGIN:VCALENDAR
PRODID:NingEventWidget-v1
VERSION:2.0
METHOD:PUBLISH
BEGIN:VTIMEZONE
TZID:America/Los_Angeles
X-LIC-LOCATION:America/Los_Angeles
BEGIN:DAYLIGHT
TZOFFSETFROM:-0800
TZOFFSETTO:-0700
TZNAME:PDT
DTSTART:19700308T020000
RRULE:FREQ=YEARLY;BYMONTH=3;BYDAY=2SU
END:DAYLIGHT
BEGIN:STANDARD
TZOFFSETFROM:-0700
TZOFFSETTO:-0800
TZNAME:PST
DTSTART:19701101T020000
RRULE:FREQ=YEARLY;BYMONTH=11;BYDAY=1SU
END:STANDARD
END:VTIMEZONE
BEGIN:VEVENT
UID:1464587:Event:239819
DTSTAMP:20260421T080322Z
SUMMARY:Macklemore & Ryan Lewis
DESCRIPTION:\nVenue:\nBill Graham Civic Auditorium\n\nLocation:\nSan F
 rancisco, CA\n\nShow Date:\nSaturday, December 7\n\nShow Time:\n8:00PM
 \n\nOn Sale Date:\nThursday, June 27\n\nTicket Price:\n$46.50 - Genera
 l Admission*plus applicable service fees\nTickets are also available s
 ervice charge free at The Fox Theater's Box Office (located on the 19t
 h street side of the theater) on show dates and on Fridays from noon -
  7:00pm.\n\n\n\n\n\nFor more information visit https://trueskool.com/e
 vents/macklemore-ryan-lewis
DTSTART;TZID=America/Los_Angeles:20131207T200000
DTEND;TZID=America/Los_Angeles:20131207T230000
CATEGORIES:"san francisco, ca"
LOCATION:Bill Graham Civic Auditorium , San Francisco
WEBSITE:http://www.apeconcerts.com/venue_bgc.cfm
URL:http://www.apeconcerts.com/venue_bgc.cfm
CONTACT:
ORGANIZER;CN="Editor's Pick":https://trueskool.com/profile/RentheVinyl
 Archaeologist
ATTACH;FMTTYPE="image/jpeg":http://storage.ning.com/topology/rest/1.0/
 file/get/2247946978?profile=original
ATTENDEE;ROLE=REQ-PARTICIPANT;PARTSTAT=ACCEPTED;RSVP=TRUE;CN="Editor's
  Pick":https://trueskool.com/profile/RentheVinylArchaeologist
END:VEVENT
END:VCALENDAR
