BEGIN:VCALENDAR
PRODID:NingEventWidget-v1
VERSION:2.0
METHOD:PUBLISH
BEGIN:VTIMEZONE
TZID:America/Los_Angeles
X-LIC-LOCATION:America/Los_Angeles
BEGIN:DAYLIGHT
TZOFFSETFROM:-0800
TZOFFSETTO:-0700
TZNAME:PDT
DTSTART:19700308T020000
RRULE:FREQ=YEARLY;BYMONTH=3;BYDAY=2SU
END:DAYLIGHT
BEGIN:STANDARD
TZOFFSETFROM:-0700
TZOFFSETTO:-0800
TZNAME:PST
DTSTART:19701101T020000
RRULE:FREQ=YEARLY;BYMONTH=11;BYDAY=1SU
END:STANDARD
END:VTIMEZONE
BEGIN:VEVENT
UID:1464587:Event:259133
DTSTAMP:20260422T020702Z
SUMMARY:Macklemore & Ryan (Chicago)
DESCRIPTION:\nNOVÂ Â \n4\nMON\n\nUIC PavilionChicago,Â IL07:00 PM\n\nM
 acklemore & Ryan LewisDetails: Macklemore & Ryan Lewis,Â Talib Kweli,Â
  more...\nFind Tickets\n\n\n\n\nFor more information visit https://tru
 eskool.com/events/macklemore-ryan-chicago
DTSTART;TZID=America/Los_Angeles:20131104T190000
DTEND;TZID=America/Los_Angeles:20131104T230000
CATEGORIES:chicago
LOCATION:UIC Pavilion, Chicago
WEBSITE:http://www.ticketmaster.com/macklemore-ryan-lewis-chicago-illi
 nois-11-04-2013/event/04004AD5C7627F7E?artistid=1540042&majorcatid=100
 01&minorcatid=3&tm_link=artist_msg-0_04004AD5C7627F7E
URL:http://www.ticketmaster.com/macklemore-ryan-lewis-chicago-illinois
 -11-04-2013/event/04004AD5C7627F7E?artistid=1540042&majorcatid=10001&m
 inorcatid=3&tm_link=artist_msg-0_04004AD5C7627F7E
CONTACT:
ORGANIZER;CN="Editor's Pick":https://trueskool.com/profile/RentheVinyl
 Archaeologist
ATTACH;FMTTYPE="image/jpeg":http://storage.ning.com/topology/rest/1.0/
 file/get/2247949752?profile=original
ATTENDEE;ROLE=REQ-PARTICIPANT;PARTSTAT=ACCEPTED;RSVP=TRUE;CN="Editor's
  Pick":https://trueskool.com/profile/RentheVinylArchaeologist
END:VEVENT
END:VCALENDAR
