BEGIN:VCALENDAR
PRODID:NingEventWidget-v1
VERSION:2.0
METHOD:PUBLISH
BEGIN:VTIMEZONE
TZID:America/Los_Angeles
X-LIC-LOCATION:America/Los_Angeles
BEGIN:DAYLIGHT
TZOFFSETFROM:-0800
TZOFFSETTO:-0700
TZNAME:PDT
DTSTART:19700308T020000
RRULE:FREQ=YEARLY;BYMONTH=3;BYDAY=2SU
END:DAYLIGHT
BEGIN:STANDARD
TZOFFSETFROM:-0700
TZOFFSETTO:-0800
TZNAME:PST
DTSTART:19701101T020000
RRULE:FREQ=YEARLY;BYMONTH=11;BYDAY=1SU
END:STANDARD
END:VTIMEZONE
BEGIN:VEVENT
UID:1464587:Event:50217
DTSTAMP:20260420T231733Z
SUMMARY:MACHINE.Wednesdays !!!FREE!!!
DESCRIPTION:4/28 - Special Guest STEVE FABUS *Exclusive HOUSE Set*\n\n
 Every WEDNESDAY\n\n...when the past collides with the future, all hell
  breaks loose...\n\nGet yo MACHINE on!\n\nHOUSE*CLASSICS*DISCO*MORE!\n
 \nAt the controls:\nSERGIO (Go BANG!/KALX): professional party rocker 
 and 110% dynamo behind the decks\nCONOR (No Way Back/Rong Music): The 
 selector from another dimensional vector\nANDRÉ LUCERO (Fiction/Solid
 ): Shoots lasers through speakers\n\nMACHINE music for PARTY PEOPLE\nW
 ednesdays!\nat the lovely SLOANE, 1525 Mission/11th\n1 Block Away from
  MUNI/BART!\n\nFREE all night * great drink specials * choice choonz\n
 \nhttp://www.facebook.com/pages/MachineWednesdays/468526240163\n\n**Ge
 tting to know STEVE FABUS**\nSteve Fabus is one of the first nationall
 y recognized DJ's that originated during the disco era in San Francisc
 o starting when he moved here in 1975. His soul disco sound of the lat
 e seventies and early eighties would be a precursor to the House music
  that would follow. After moving to San Francisco, Steve would host ho
 use parties, where he would mix music for the many new friends he was 
 making in the city. San Francisco was already the counter-cultural cap
 ital of America, home of the North Beach Beats and Haight-Ashbury hipp
 ie movement; now it was the epicentor for the sexual revolution and ga
 y liberation. There was a social, sexual, political explosion in the c
 ity. It was a wild, exhilarating time and the whole city was a party. 
 Two people that were part of the scene at Steve's parties included a p
 re-disco Sylvester, who was a member of the radical drag troupe \"The 
 Cockettes\", and Harvey Milk, who would become America's first gay pol
 itician elected to public office. They would be part of the growing en
 ergized gay subculture that was creating a party for the world.\n\nSte
 ve played at San Francisco's first major all-night loft party called \
 "Boiler Room.\" In 1977 Steve Fabus was hired to play at San Francisco
 's first big disco, the I-Beam. Trocadero Transfer opened a short time
  later and Steve worked with Bobby Viteritti. During these same years,
  78, 79, Steve was the resident DJ at Chains, which was the leather ba
 r at 8th and Howard street, Black and Blue, that was transformed into 
 an all-night dance club. In 1980, Steve Fabus became a resident of the
  legendary EndUp in San Francisco. His shift was the 6am to 2pm slot o
 n Sunday mornings. Many credit Steve for starting what is still known 
 to this day as \"Church\" at the EndUp. Steve established a soulful ed
 ge in the morning with records like D-Train's \"Your The One For Me\" 
 in 1982.\n\nHe is currently a Resident & guiding force in Go BANG!\nht
 tp://www.facebook.com/GoBANGSF\na monthly tribute to the decadence & i
 ntense dancing of the disco heydeys! He rocks the decks monthly with h
 is amazing tunes!!\n\nAt MACHINE, Mr. Fabus will be HOUSING you with h
 is funky beats to move your feet! Come work it out!\n\nFacebooK: http:
 //www.facebook.com/people/Steve-Fabus/1000016615\nGo BANG!: http://www
 .facebook.com/GoBANGSF\nMORE INFO: http://www.discomusic.com/people-mo
 re/3185_0_11_0_C/\n\nFor more information visit https://trueskool.com/
 events/machinewednesdays-free
DTSTART;TZID=America/Los_Angeles:20100428T220000
DTEND;TZID=America/Los_Angeles:20100429T020000
CATEGORIES:techo, house, disco, electro, funk, soul, classics, cheap, 
 drinks
LOCATION:Sloane, San Francisco, CA
WEBSITE:http://www.facebook.com/pages/MachineWednesdays/468526240163
URL:http://www.facebook.com/pages/MachineWednesdays/468526240163
CONTACT:
ORGANIZER;CN=Sergio:https://trueskool.com/profile/Sergio
ATTACH;FMTTYPE="image/jpeg":http://storage.ning.com/topology/rest/1.0/
 file/get/2247876818?profile=original
ATTENDEE;ROLE=REQ-PARTICIPANT;PARTSTAT=ACCEPTED;RSVP=TRUE;CN=Sergio:ht
 tps://trueskool.com/profile/Sergio
END:VEVENT
END:VCALENDAR
