BEGIN:VCALENDAR
PRODID:NingEventWidget-v1
VERSION:2.0
METHOD:PUBLISH
BEGIN:VTIMEZONE
TZID:America/Los_Angeles
X-LIC-LOCATION:America/Los_Angeles
BEGIN:DAYLIGHT
TZOFFSETFROM:-0800
TZOFFSETTO:-0700
TZNAME:PDT
DTSTART:19700308T020000
RRULE:FREQ=YEARLY;BYMONTH=3;BYDAY=2SU
END:DAYLIGHT
BEGIN:STANDARD
TZOFFSETFROM:-0700
TZOFFSETTO:-0800
TZNAME:PST
DTSTART:19701101T020000
RRULE:FREQ=YEARLY;BYMONTH=11;BYDAY=1SU
END:STANDARD
END:VTIMEZONE
BEGIN:VEVENT
UID:1464587:Event:842725
DTSTAMP:20260421T195756Z
SUMMARY:Macbeth: A New Modern Verse Translation by Migdalia Cruz
DESCRIPTION:Migdalia Cruz’ new version of Macbeth cuts to the grief 
 and core of Shakespeare’s classic like you've never seen before!\nDi
 rector Liam Vincent brings the scene to 1970s New York in this queer t
 elling.\nFeaturing Sarah Nina Hayon as Lady Macbeth and Catherine Cast
 ellanos as Macbeth. The rest of this stellar cast includes Nora el Sam
 ahy, Juan Amador, Kina Kantor, Danny Scheie and Brian Rivera.\n\nFor m
 ore information visit https://trueskool.com/events/macbeth-a-new-moder
 n-verse-translation-by-migdalia-cruz
DTSTART;TZID=America/Los_Angeles:20260401T200000
DTEND;TZID=America/Los_Angeles:20260412T160000
CATEGORIES:"san francisco", "magic theatre", "bay area"
LOCATION:Magic Theatre, San Francisco, CA
WEBSITE:https://www.magictheatre.org/calendar/macbeth
URL:https://www.magictheatre.org/calendar/macbeth
CONTACT:415-441-8822
ORGANIZER:Magic Theatre
ATTACH;FMTTYPE="image/jpeg":https://storage.ning.com/topology/rest/1.0
 /file/get/31101339261?profile=original
ATTENDEE;ROLE=REQ-PARTICIPANT;PARTSTAT=ACCEPTED;RSVP=TRUE;CN="Kevin Ne
 lson":https://trueskool.com/profile/KevinNelson
END:VEVENT
END:VCALENDAR
