BEGIN:VCALENDAR
PRODID:NingEventWidget-v1
VERSION:2.0
METHOD:PUBLISH
BEGIN:VTIMEZONE
TZID:America/Los_Angeles
X-LIC-LOCATION:America/Los_Angeles
BEGIN:DAYLIGHT
TZOFFSETFROM:-0800
TZOFFSETTO:-0700
TZNAME:PDT
DTSTART:19700308T020000
RRULE:FREQ=YEARLY;BYMONTH=3;BYDAY=2SU
END:DAYLIGHT
BEGIN:STANDARD
TZOFFSETFROM:-0700
TZOFFSETTO:-0800
TZNAME:PST
DTSTART:19701101T020000
RRULE:FREQ=YEARLY;BYMONTH=11;BYDAY=1SU
END:STANDARD
END:VTIMEZONE
BEGIN:VEVENT
UID:1464587:Event:229646
DTSTAMP:20260421T211250Z
SUMMARY:Mac Miller (Los Angeles)
DESCRIPTION:\nHollywood Palladium Hollywood, CA 07:00 PM\n\nLive Nat
 ion Presents Mac Miller - The Space Migration Tour Details: Mac Miller
 , Action Bronson, more...\nFind Tickets »on Live Nation\n\n\n\n\nF
 or more information visit https://trueskool.com/events/mac-miller-los-
 angeles
DTSTART;TZID=America/Los_Angeles:20130807T190000
DTEND;TZID=America/Los_Angeles:20130807T230000
CATEGORIES:"los angeles", ca
LOCATION:Hollywood Palladium, Los Angeles
WEBSITE:http://concerts.livenation.com/event/09004AA3DFBB8B8B?tm_link=
 artist_msg-0_09004AA3DFBB8B8B&crosssite=TM_US:1475084:73794
URL:http://concerts.livenation.com/event/09004AA3DFBB8B8B?tm_link=arti
 st_msg-0_09004AA3DFBB8B8B&crosssite=TM_US:1475084:73794
CONTACT:
ORGANIZER;CN="Editor's Pick":https://trueskool.com/profile/RentheVinyl
 Archaeologist
ATTACH;FMTTYPE="image/jpeg":http://storage.ning.com/topology/rest/1.0/
 file/get/2247944162?profile=original
ATTENDEE;ROLE=REQ-PARTICIPANT;PARTSTAT=ACCEPTED;RSVP=TRUE;CN="Editor's
  Pick":https://trueskool.com/profile/RentheVinylArchaeologist
END:VEVENT
END:VCALENDAR
