BEGIN:VCALENDAR
PRODID:NingEventWidget-v1
VERSION:2.0
METHOD:PUBLISH
BEGIN:VTIMEZONE
TZID:America/Los_Angeles
X-LIC-LOCATION:America/Los_Angeles
BEGIN:DAYLIGHT
TZOFFSETFROM:-0800
TZOFFSETTO:-0700
TZNAME:PDT
DTSTART:19700308T020000
RRULE:FREQ=YEARLY;BYMONTH=3;BYDAY=2SU
END:DAYLIGHT
BEGIN:STANDARD
TZOFFSETFROM:-0700
TZOFFSETTO:-0800
TZNAME:PST
DTSTART:19701101T020000
RRULE:FREQ=YEARLY;BYMONTH=11;BYDAY=1SU
END:STANDARD
END:VTIMEZONE
BEGIN:VEVENT
UID:1464587:Event:229627
DTSTAMP:20260421T180504Z
SUMMARY:Mac Miller (Las Vegas)
DESCRIPTION:\nHouse of Blues Las VegasLas Vegas, NV05:00 PM\n\nLive N
 ation Presents Mac Miller - The Space Migration TourDetails: Mac Mille
 r, Action Bronson, more...\nFind Tickets »on Live Nation\n\n\n\n\n
 For more information visit https://trueskool.com/events/mac-miller-las
 -vegas
DTSTART;TZID=America/Los_Angeles:20130808T170000
DTEND;TZID=America/Los_Angeles:20130808T230000
CATEGORIES:"las vegas", nevada
LOCATION:House of Blues Las Vegas
WEBSITE:http://concerts.livenation.com/event/17004AA4C4E535A1?tm_link=
 artist_msg-0_17004AA4C4E535A1&crosssite=TM_US:1475084:188737
URL:http://concerts.livenation.com/event/17004AA4C4E535A1?tm_link=arti
 st_msg-0_17004AA4C4E535A1&crosssite=TM_US:1475084:188737
CONTACT:
ORGANIZER;CN="Editor's Pick":https://trueskool.com/profile/RentheVinyl
 Archaeologist
ATTACH;FMTTYPE="image/jpeg":http://storage.ning.com/topology/rest/1.0/
 file/get/2247944162?profile=original
ATTENDEE;ROLE=REQ-PARTICIPANT;PARTSTAT=ACCEPTED;RSVP=TRUE;CN="Editor's
  Pick":https://trueskool.com/profile/RentheVinylArchaeologist
END:VEVENT
END:VCALENDAR
