BEGIN:VCALENDAR
PRODID:NingEventWidget-v1
VERSION:2.0
METHOD:PUBLISH
BEGIN:VTIMEZONE
TZID:America/Los_Angeles
X-LIC-LOCATION:America/Los_Angeles
BEGIN:DAYLIGHT
TZOFFSETFROM:-0800
TZOFFSETTO:-0700
TZNAME:PDT
DTSTART:19700308T020000
RRULE:FREQ=YEARLY;BYMONTH=3;BYDAY=2SU
END:DAYLIGHT
BEGIN:STANDARD
TZOFFSETFROM:-0700
TZOFFSETTO:-0800
TZNAME:PST
DTSTART:19701101T020000
RRULE:FREQ=YEARLY;BYMONTH=11;BYDAY=1SU
END:STANDARD
END:VTIMEZONE
BEGIN:VEVENT
UID:1464587:Event:631328
DTSTAMP:20260421T162710Z
SUMMARY:M.O.P. (WIN TICKETS)
DESCRIPTION: ENTER TO WIN A PAIR OF TICKETS. WINNER WILL BE DRAWN RAND
 OMLY AND ANNOUNCED 2 DAYS PRIOR TO EVENT. \n\n\n\n THURSDAY 7/02\nSean
  Healy & Tastemaker Live Present\nSTREET CERTIFIED TOUR WITH M.O.P.\n8
 :30 PM (Doors open at 8:00 PM) 18 & OVER\nUNDER 21 MUST BUY $5 NON-ALC
 OHOLIC DRINK TICKET AT THE DOOR.\n[ MORE INFO/PURCHASE TICKETS ]\n$18.
 00 Advance $22.00 Day of Show\n\nFor more information visit https://tr
 ueskool.com/events/m-o-p
DTSTART;TZID=America/Los_Angeles:20150702T200000
DTEND;TZID=America/Los_Angeles:20150702T230000
CATEGORIES:"bay area", oakland
LOCATION:The New Parish, Oakland
WEBSITE:http://thenewparish.com/show.cfm?id=206447&cart
URL:http://thenewparish.com/show.cfm?id=206447&cart
CONTACT:
ORGANIZER:SEAN HEALY & TASTEMAKER LIVE
ATTACH;FMTTYPE="image/jpeg":http://storage.ning.com/topology/rest/1.0/
 file/get/2247977029?profile=original
ATTENDEE;ROLE=REQ-PARTICIPANT;PARTSTAT=ACCEPTED;RSVP=TRUE;CN="Elisa Bj
 eldanes":https://trueskool.com/profile/ElisaBjeldanes
ATTENDEE;ROLE=REQ-PARTICIPANT;PARTSTAT=ACCEPTED;RSVP=TRUE;CN="Editor's
  Pick":https://trueskool.com/profile/RentheVinylArchaeologist
END:VEVENT
END:VCALENDAR
