BEGIN:VCALENDAR
PRODID:NingEventWidget-v1
VERSION:2.0
METHOD:PUBLISH
BEGIN:VTIMEZONE
TZID:America/Los_Angeles
X-LIC-LOCATION:America/Los_Angeles
BEGIN:DAYLIGHT
TZOFFSETFROM:-0800
TZOFFSETTO:-0700
TZNAME:PDT
DTSTART:19700308T020000
RRULE:FREQ=YEARLY;BYMONTH=3;BYDAY=2SU
END:DAYLIGHT
BEGIN:STANDARD
TZOFFSETFROM:-0700
TZOFFSETTO:-0800
TZNAME:PST
DTSTART:19701101T020000
RRULE:FREQ=YEARLY;BYMONTH=11;BYDAY=1SU
END:STANDARD
END:VTIMEZONE
BEGIN:VEVENT
UID:1464587:Event:833079
DTSTAMP:20260421T064526Z
SUMMARY:Lyrics Born
DESCRIPTION:Lyrics Born\r\nSaturday, February 01, 2025 Doors: 8:30pm |
  Show: 9:00pm\r\nThe Independent 628 Divisadero St, San Francisco, CA 
  94117\n\nFor more information visit https://trueskool.com/events/lyri
 cs-born-6
DTSTART;TZID=America/Los_Angeles:20250201T210000
DTEND;TZID=America/Los_Angeles:20250201T233000
CATEGORIES:"bay area", oakland, "san francisco", "san jose", berkeley
LOCATION:The Independent, San Francisco
WEBSITE:https://www.ticketweb.com/event/lyrics-born-the-independent-ti
 ckets/13659964?pl=independentsf&amp;REFID=clientsitewp
URL:https://www.ticketweb.com/event/lyrics-born-the-independent-ticket
 s/13659964?pl=independentsf&amp;REFID=clientsitewp
CONTACT:
ORGANIZER;CN="Editor's Pick":https://trueskool.com/profile/RentheVinyl
 Archaeologist
ATTACH;FMTTYPE="image/jpeg":https://storage.ning.com/topology/rest/1.0
 /file/get/13123648659?profile=original
ATTENDEE;ROLE=REQ-PARTICIPANT;PARTSTAT=ACCEPTED;RSVP=TRUE;CN="Editor's
  Pick":https://trueskool.com/profile/RentheVinylArchaeologist
END:VEVENT
END:VCALENDAR
