BEGIN:VCALENDAR
PRODID:NingEventWidget-v1
VERSION:2.0
METHOD:PUBLISH
BEGIN:VTIMEZONE
TZID:America/Los_Angeles
X-LIC-LOCATION:America/Los_Angeles
BEGIN:DAYLIGHT
TZOFFSETFROM:-0800
TZOFFSETTO:-0700
TZNAME:PDT
DTSTART:19700308T020000
RRULE:FREQ=YEARLY;BYMONTH=3;BYDAY=2SU
END:DAYLIGHT
BEGIN:STANDARD
TZOFFSETFROM:-0700
TZOFFSETTO:-0800
TZNAME:PST
DTSTART:19701101T020000
RRULE:FREQ=YEARLY;BYMONTH=11;BYDAY=1SU
END:STANDARD
END:VTIMEZONE
BEGIN:VEVENT
UID:1464587:Event:119250
DTSTAMP:20260424T070229Z
SUMMARY:Lyrics Born
DESCRIPTION:\n\n\nFor more information visit https://trueskool.com/eve
 nts/lyrics-born-1
DTSTART;TZID=America/Los_Angeles:20120616T210000
DTEND;TZID=America/Los_Angeles:20120616T230000
CATEGORIES:"bay area", san, francisco, " ", oakland, northern, "califo
 rnia\""
LOCATION:The Independent, San Francisco, CA
WEBSITE:http://www.apeconcerts.com/popArtist.cfm?cID=3473
URL:http://www.apeconcerts.com/popArtist.cfm?cID=3473
CONTACT:
ORGANIZER;CN="Editor's Pick":https://trueskool.com/profile/RentheVinyl
 Archaeologist
ATTACH;FMTTYPE="image/jpeg":http://storage.ning.com/topology/rest/1.0/
 file/get/2247914850?profile=original
ATTENDEE;ROLE=REQ-PARTICIPANT;PARTSTAT=ACCEPTED;RSVP=TRUE;CN=Joon:http
 s://trueskool.com/profile/Joon
ATTENDEE;ROLE=REQ-PARTICIPANT;PARTSTAT=ACCEPTED;RSVP=TRUE;CN="Editor's
  Pick":https://trueskool.com/profile/RentheVinylArchaeologist
END:VEVENT
END:VCALENDAR
