BEGIN:VCALENDAR
PRODID:NingEventWidget-v1
VERSION:2.0
METHOD:PUBLISH
BEGIN:VTIMEZONE
TZID:America/Los_Angeles
X-LIC-LOCATION:America/Los_Angeles
BEGIN:DAYLIGHT
TZOFFSETFROM:-0800
TZOFFSETTO:-0700
TZNAME:PDT
DTSTART:19700308T020000
RRULE:FREQ=YEARLY;BYMONTH=3;BYDAY=2SU
END:DAYLIGHT
BEGIN:STANDARD
TZOFFSETFROM:-0700
TZOFFSETTO:-0800
TZNAME:PST
DTSTART:19701101T020000
RRULE:FREQ=YEARLY;BYMONTH=11;BYDAY=1SU
END:STANDARD
END:VTIMEZONE
BEGIN:VEVENT
UID:1464587:Event:33079
DTSTAMP:20260421T080439Z
SUMMARY:Lyricist Lounge ft. PAC DIV, U-N-I & Mickey Factz
DESCRIPTION:LYRICIST LOUNGE: BAY AREA EDITION\n\nFEATURING\n\nPACIFIC 
 DIVISION, U-N-I & MICKEY FACTZ\n\nALSO\n\nHOPE, TIRON, AYOMARI & J BIL
 LION\n\nMAINROOM DJ'S:\n\nANT MARSHALL(LYRICIST LOUNGE)\nDJ HAYLOW(D2S
 ) - WITH A VIDEO DJ SET\nDJ STRATEGY\n\nSIDE ROOM:\n\nDJ NYCE & MANDEE
 P SETHI\n\nLive Painting by: DYNO\n-----------------------------------
 --------\n\nFor the last 18 years Lyricist Lounge has brought you the 
 freshest, high-grade hip hop available. Helping to launch the careers 
 of Mos Def, Eminem, Notorious B.I.G, and many, many others, Lyricist L
 ounge is an incubator for developing talent. Originating in NYC, The L
 ounge has spread to the west coast to deliver the finest in hip hop, l
 yricism and straight up party vibe\n\n--------------------------------
 ------------\n\nDOORS OPEN @ 9PM\n\nLIMITED $15 PRE-SALE TICKETS AVAIL
 ABLE\n\n$20 REGULAR ADMISSION\n\nPURCHASE TICKETS @\n\nWWW.LYRICISTLOU
 NGE.MIXEDMONTHLY.COM\n\nMIGHTY\n119 UTAH ST.\nSF, CA 94013\n\n\n\n\n\n
 \n\n\nSEE YOU THERE!!\n\nCHECK OUT SEGUE'S UPCOMING EVENTS.\n\nFor mor
 e information visit https://trueskool.com/events/lyricist-lounge-ft-pa
 c-div-uni
DTSTART;TZID=America/Los_Angeles:20090530T210000
DTEND;TZID=America/Los_Angeles:20090531T020000
CATEGORIES:hip, hop, concert
LOCATION:Mighty
WEBSITE:http://Mighty119.com
URL:http://Mighty119.com
CONTACT:(415) 626-7001
ORGANIZER;CN=Mal:https://trueskool.com/profile/Mal
ATTACH;FMTTYPE="image/jpeg":http://storage.ning.com/topology/rest/1.0/
 file/get/2068658052?profile=original
ATTENDEE;ROLE=REQ-PARTICIPANT;PARTSTAT=ACCEPTED;RSVP=TRUE;CN=Mal:https
 ://trueskool.com/profile/Mal
END:VEVENT
END:VCALENDAR
