BEGIN:VCALENDAR
PRODID:NingEventWidget-v1
VERSION:2.0
METHOD:PUBLISH
BEGIN:VTIMEZONE
TZID:America/Los_Angeles
X-LIC-LOCATION:America/Los_Angeles
BEGIN:DAYLIGHT
TZOFFSETFROM:-0800
TZOFFSETTO:-0700
TZNAME:PDT
DTSTART:19700308T020000
RRULE:FREQ=YEARLY;BYMONTH=3;BYDAY=2SU
END:DAYLIGHT
BEGIN:STANDARD
TZOFFSETFROM:-0700
TZOFFSETTO:-0800
TZNAME:PST
DTSTART:19701101T020000
RRULE:FREQ=YEARLY;BYMONTH=11;BYDAY=1SU
END:STANDARD
END:VTIMEZONE
BEGIN:VEVENT
UID:1464587:Event:30460
DTSTAMP:20260420T193544Z
SUMMARY:LVRSDLX (LOVERS DELUXE)
DESCRIPTION:ALL MIGHTY FAMILY PRESENTS\n\nLVRSDLX\n(LOVERS DELUXE)\n\n
 TRIBUTE TO THE QUEENS OF HIP HOP + R & B\n\nHIP HOP//NEO - SOUL//CLUB 
 CLASSICS//DANCE HALL\n\nRESIDENT PARTY ROCKERS\n\nTHE MIGHTY DELROKZ (
 URBAN ERA/AMF)\nMES*1 (AMF)\nMERRICK (AMF)\n\nAND SPECIAL GUEST DJ QUE
 ENS OF THE MONTH\nDJ DEEANDRIOD\nDJ CELLSKIII\nAND MORE\n\nHOSTED BY M
 ANDEEP SETHI (AMF)\n\nDOORS OPEN @ 9:30\nFREE BEFORE 10 PM\n$5 WITH VI
 P GUEST LIST TILL 11PM\nEARLY ARRIVAL HIGHLY SUGGESTED\n\nNO DRESS COD
 E // DRESS TO IMPRESS RECOMMENDED\n\nRSVP FOR GUEST LIST SEND FIRST AN
 D LAST NAME TO LVRSDLXSF@GMAIL.COM\n\n\n\nFor more information visit h
 ttps://trueskool.com/events/lvrsdlx-lovers-deluxe
DTSTART;TZID=America/Los_Angeles:20090425T220000
DTEND;TZID=America/Los_Angeles:20090426T020000
CATEGORIES:hip, hop, soul, "r&b", club
LOCATION:AZUL LOUNGE, San Francisco CA
WEBSITE:
URL:
CONTACT:
ORGANIZER;CN=Delrokz:https://trueskool.com/profile/Delrokz
ATTACH;FMTTYPE="image/jpeg":http://storage.ning.com/topology/rest/1.0/
 file/get/2247856669?profile=original
ATTENDEE;ROLE=REQ-PARTICIPANT;PARTSTAT=ACCEPTED;RSVP=TRUE;CN=Delrokz:h
 ttps://trueskool.com/profile/Delrokz
END:VEVENT
END:VCALENDAR
