BEGIN:VCALENDAR
PRODID:NingEventWidget-v1
VERSION:2.0
METHOD:PUBLISH
BEGIN:VTIMEZONE
TZID:America/Los_Angeles
X-LIC-LOCATION:America/Los_Angeles
BEGIN:DAYLIGHT
TZOFFSETFROM:-0800
TZOFFSETTO:-0700
TZNAME:PDT
DTSTART:19700308T020000
RRULE:FREQ=YEARLY;BYMONTH=3;BYDAY=2SU
END:DAYLIGHT
BEGIN:STANDARD
TZOFFSETFROM:-0700
TZOFFSETTO:-0800
TZNAME:PST
DTSTART:19701101T020000
RRULE:FREQ=YEARLY;BYMONTH=11;BYDAY=1SU
END:STANDARD
END:VTIMEZONE
BEGIN:VEVENT
UID:1464587:Event:51071
DTSTAMP:20260420T211747Z
SUMMARY:Lupe Fiasco
DESCRIPTION:\nTUESDAY, MAY 4\nLupe Fiasco\n\nwith special guest\nB.O.B
 .\n\n@ The Warfield, 982 Market St., San Francisco, CA\nShow time: 8:0
 0pm, # Door time: 7:00pm\nAge: All Ages+\nBuy Tickets\nInfo/Tix: http:
 //www.goldenvoice.com\n\n\nFor more information visit https://trueskoo
 l.com/events/lupe-fiasco
DTSTART;TZID=America/Los_Angeles:20100504T220000
DTEND;TZID=America/Los_Angeles:20100505T020000
CATEGORIES:hip, hop
LOCATION:The Warfield, San Francisco, CA
WEBSITE:http://www.goldenvoice.com/shows/details/?id=26710
URL:http://www.goldenvoice.com/shows/details/?id=26710
CONTACT:
ORGANIZER:Golden Voice
ATTACH;FMTTYPE="image/jpeg":http://storage.ning.com/topology/rest/1.0/
 file/get/2247875949?profile=original
ATTENDEE;ROLE=REQ-PARTICIPANT;PARTSTAT=ACCEPTED;RSVP=TRUE;CN="caramel 
 queen":https://trueskool.com/profile/caramelqueen
ATTENDEE;ROLE=REQ-PARTICIPANT;PARTSTAT=ACCEPTED;RSVP=TRUE;CN=Adia:http
 s://trueskool.com/profile/Adia
ATTENDEE;ROLE=REQ-PARTICIPANT;PARTSTAT=ACCEPTED;RSVP=TRUE;CN="Editor's
  Pick":https://trueskool.com/profile/RentheVinylArchaeologist
END:VEVENT
END:VCALENDAR
