BEGIN:VCALENDAR
PRODID:NingEventWidget-v1
VERSION:2.0
METHOD:PUBLISH
BEGIN:VTIMEZONE
TZID:America/Los_Angeles
X-LIC-LOCATION:America/Los_Angeles
BEGIN:DAYLIGHT
TZOFFSETFROM:-0800
TZOFFSETTO:-0700
TZNAME:PDT
DTSTART:19700308T020000
RRULE:FREQ=YEARLY;BYMONTH=3;BYDAY=2SU
END:DAYLIGHT
BEGIN:STANDARD
TZOFFSETFROM:-0700
TZOFFSETTO:-0800
TZNAME:PST
DTSTART:19701101T020000
RRULE:FREQ=YEARLY;BYMONTH=11;BYDAY=1SU
END:STANDARD
END:VTIMEZONE
BEGIN:VEVENT
UID:1464587:Event:628728
DTSTAMP:20260422T103720Z
SUMMARY:Lupe Fiasco with Charles Hamilton (WIN TICKETS)
DESCRIPTION:ENTER TO WIN A PAIR OF TICKETS. WINNER WILL BE DRAWN RANDO
 MLY AND ANNOUNCED 2 DAYS PRIOR TO EVENT. \n Mon, Jun 8, 2015 Lupe Fia
 sco Charles Hamilton\n@ The Regency Ballroom, 1300 Van Ness Ave, San F
 rancisco (415) 673-5716 Ages: All Ages Doors: 7:00PM. Show: 8:00PM Sta
 rting from: $32.50. Door Price: $35.00 Onsale: Fri, May 15, 2015 - 10:
 00AM PDT \n\nFor more information visit https://trueskool.com/events/l
 upe-fiasco-with-charles-hamilton-win-tickets
DTSTART;TZID=America/Los_Angeles:20150608T190000
DTEND;TZID=America/Los_Angeles:20150608T230000
CATEGORIES:"bay area", "san francisco"
LOCATION:Regency Ballroom, San Francisco
WEBSITE:http://www.axs.com/events/278836/lupe-fiasco-tickets?CID=REG_L
 upe_TrueSkool
URL:http://www.axs.com/events/278836/lupe-fiasco-tickets?CID=REG_Lupe_
 TrueSkool
CONTACT:
ORGANIZER;CN="Editor's Pick":https://trueskool.com/profile/RentheVinyl
 Archaeologist
ATTACH;FMTTYPE="image/jpeg":http://storage.ning.com/topology/rest/1.0/
 file/get/2247976196?profile=original
ATTENDEE;ROLE=REQ-PARTICIPANT;PARTSTAT=ACCEPTED;RSVP=TRUE;CN=DaLYT:htt
 ps://trueskool.com/profile/DaLYT
ATTENDEE;ROLE=REQ-PARTICIPANT;PARTSTAT=ACCEPTED;RSVP=TRUE;CN="Art Barr
 on":https://trueskool.com/profile/ArtBarron593
ATTENDEE;ROLE=REQ-PARTICIPANT;PARTSTAT=ACCEPTED;RSVP=TRUE;CN="Donte Ha
 rrison":https://trueskool.com/profile/DonteHarrison
ATTENDEE;ROLE=REQ-PARTICIPANT;PARTSTAT=ACCEPTED;RSVP=TRUE;CN="Jon Schr
 oeder":https://trueskool.com/profile/JonSchroeder
ATTENDEE;ROLE=REQ-PARTICIPANT;PARTSTAT=ACCEPTED;RSVP=TRUE;CN="Editor's
  Pick":https://trueskool.com/profile/RentheVinylArchaeologist
ATTENDEE;ROLE=REQ-PARTICIPANT;PARTSTAT=TENTATIVE;RSVP=TRUE;CN="Isaac L
 eong":https://trueskool.com/profile/IsaacLeong
END:VEVENT
END:VCALENDAR
