BEGIN:VCALENDAR
PRODID:NingEventWidget-v1
VERSION:2.0
METHOD:PUBLISH
BEGIN:VTIMEZONE
TZID:America/Los_Angeles
X-LIC-LOCATION:America/Los_Angeles
BEGIN:DAYLIGHT
TZOFFSETFROM:-0800
TZOFFSETTO:-0700
TZNAME:PDT
DTSTART:19700308T020000
RRULE:FREQ=YEARLY;BYMONTH=3;BYDAY=2SU
END:DAYLIGHT
BEGIN:STANDARD
TZOFFSETFROM:-0700
TZOFFSETTO:-0800
TZNAME:PST
DTSTART:19701101T020000
RRULE:FREQ=YEARLY;BYMONTH=11;BYDAY=1SU
END:STANDARD
END:VTIMEZONE
BEGIN:VEVENT
UID:1464587:Event:264132
DTSTAMP:20260421T051551Z
SUMMARY:LUPE FIASCO: Tetsou and Youth Preview Tour (Philadelphia)
DESCRIPTION:\n\nLUPE FIASCO: Tetsou and Youth Preview Tour\n\nDetails:
  Lupe Fiasco, Stalley\n\n\nThe Electric Factory Philadelphia, PA\n\nWe
 d, 12/04/13 08:00 PM\n\nFind Tickets »\n\n\n\n\n\nFor more informati
 on visit https://trueskool.com/events/lupe-fiasco-tetsou-and-youth-pre
 view-tour
DTSTART;TZID=America/Los_Angeles:20131204T200000
DTEND;TZID=America/Los_Angeles:20131204T230000
CATEGORIES:philadephia
LOCATION:The Electric Factory
WEBSITE:http://www.ticketmaster.com/lupe-fiasco-tetsou-and-youth-previ
 ew-philadelphia-pennsylvania-12-04-2013/event/02004B3EF7649A3F?artisti
 d=1036994&majorcatid=10001&minorcatid=3&tm_link=browse_msg-0_02004B3EF
 7649A3F
URL:http://www.ticketmaster.com/lupe-fiasco-tetsou-and-youth-preview-p
 hiladelphia-pennsylvania-12-04-2013/event/02004B3EF7649A3F?artistid=10
 36994&majorcatid=10001&minorcatid=3&tm_link=browse_msg-0_02004B3EF7649
 A3F
CONTACT:
ORGANIZER;CN="Staff Pick":https://trueskool.com/profile/Ren
ATTACH;FMTTYPE="image/jpeg":http://storage.ning.com/topology/rest/1.0/
 file/get/2247951023?profile=original
ATTENDEE;ROLE=REQ-PARTICIPANT;PARTSTAT=ACCEPTED;RSVP=TRUE;CN="Staff Pi
 ck":https://trueskool.com/profile/Ren
END:VEVENT
END:VCALENDAR
