BEGIN:VCALENDAR
PRODID:NingEventWidget-v1
VERSION:2.0
METHOD:PUBLISH
BEGIN:VTIMEZONE
TZID:America/Los_Angeles
X-LIC-LOCATION:America/Los_Angeles
BEGIN:DAYLIGHT
TZOFFSETFROM:-0800
TZOFFSETTO:-0700
TZNAME:PDT
DTSTART:19700308T020000
RRULE:FREQ=YEARLY;BYMONTH=3;BYDAY=2SU
END:DAYLIGHT
BEGIN:STANDARD
TZOFFSETFROM:-0700
TZOFFSETTO:-0800
TZNAME:PST
DTSTART:19701101T020000
RRULE:FREQ=YEARLY;BYMONTH=11;BYDAY=1SU
END:STANDARD
END:VTIMEZONE
BEGIN:VEVENT
UID:1464587:Event:259356
DTSTAMP:20260421T203442Z
SUMMARY:Lupe Fiasco (New York)
DESCRIPTION:\n  DEC  \n10\nTUE\n\nIrving Plaza powered by KlipschN
 ew York, NY07:00 PM\n\nHot 97 Presents Lupe Fiasco: Tetsuo and Youth 
 Preview TourDetails: Lupe Fiasco\nFind Tickets\n\n\n\n\nFor more infor
 mation visit https://trueskool.com/events/lupe-fiasco-new-york-3
DTSTART;TZID=America/Los_Angeles:20131210T190000
DTEND;TZID=America/Los_Angeles:20131210T230000
CATEGORIES:nyc
LOCATION:Irving Plaza powered by Klipsch, New York
WEBSITE:http://concerts.livenation.com/event/00004B3E4AC0CF24?tm_link=
 artist_msg-0_00004B3E4AC0CF24&crosssite=TM_US:1036994:47
URL:http://concerts.livenation.com/event/00004B3E4AC0CF24?tm_link=arti
 st_msg-0_00004B3E4AC0CF24&crosssite=TM_US:1036994:47
CONTACT:
ORGANIZER;CN="Editor's Pick":https://trueskool.com/profile/RentheVinyl
 Archaeologist
ATTACH;FMTTYPE="image/jpeg":http://storage.ning.com/topology/rest/1.0/
 file/get/2247949548?profile=original
ATTENDEE;ROLE=REQ-PARTICIPANT;PARTSTAT=ACCEPTED;RSVP=TRUE;CN="Editor's
  Pick":https://trueskool.com/profile/RentheVinylArchaeologist
END:VEVENT
END:VCALENDAR
