BEGIN:VCALENDAR
PRODID:NingEventWidget-v1
VERSION:2.0
METHOD:PUBLISH
BEGIN:VTIMEZONE
TZID:America/Los_Angeles
X-LIC-LOCATION:America/Los_Angeles
BEGIN:DAYLIGHT
TZOFFSETFROM:-0800
TZOFFSETTO:-0700
TZNAME:PDT
DTSTART:19700308T020000
RRULE:FREQ=YEARLY;BYMONTH=3;BYDAY=2SU
END:DAYLIGHT
BEGIN:STANDARD
TZOFFSETFROM:-0700
TZOFFSETTO:-0800
TZNAME:PST
DTSTART:19701101T020000
RRULE:FREQ=YEARLY;BYMONTH=11;BYDAY=1SU
END:STANDARD
END:VTIMEZONE
BEGIN:VEVENT
UID:1464587:Event:631627
DTSTAMP:20260422T093348Z
SUMMARY:Luniz (WIN TICKETS)
DESCRIPTION:ENTER TO WIN A PAIR OF TICKETS. WINNER WILL BE DRAWN RANDO
 MLY AND ANNOUNCED 2 DAYS PRIOR TO EVENT.\n\nFRIDAY 6/19 Tastemaker Liv
 e & Sean Healy Presents LUNIZ\n \n@ The New Parish, 1743 San Pablo Av
 e (at 18th St) Oakland, CA 94612\n9:00 PM (Doors open at 8:00 PM) 18 &
  OVER UNDER 21 MUST BUY $5 NON-ALCOHOLIC DRINK TICKET AT THE DOOR. [ M
 ORE INFO/PURCHASE TICKETS ] $18.00 Advance $35.00 Day of Show VIP\n\n
 For more information visit https://trueskool.com/events/luniz-win-tick
 ets
DTSTART;TZID=America/Los_Angeles:20150619T200000
DTEND;TZID=America/Los_Angeles:20150619T230000
CATEGORIES:"bay area", oakland
LOCATION:The New Parish, Oakland
WEBSITE:http://thenewparish.com/show.cfm?id=202818&cart
URL:http://thenewparish.com/show.cfm?id=202818&cart
CONTACT:
ORGANIZER:SEAN HEALY & TASTEMAKER LIVE
ATTACH;FMTTYPE="image/jpeg":http://storage.ning.com/topology/rest/1.0/
 file/get/2247977783?profile=original
ATTENDEE;ROLE=REQ-PARTICIPANT;PARTSTAT=ACCEPTED;RSVP=TRUE;CN="Editor's
  Pick":https://trueskool.com/profile/RentheVinylArchaeologist
END:VEVENT
END:VCALENDAR
