BEGIN:VCALENDAR
PRODID:NingEventWidget-v1
VERSION:2.0
METHOD:PUBLISH
BEGIN:VTIMEZONE
TZID:America/Los_Angeles
X-LIC-LOCATION:America/Los_Angeles
BEGIN:DAYLIGHT
TZOFFSETFROM:-0800
TZOFFSETTO:-0700
TZNAME:PDT
DTSTART:19700308T020000
RRULE:FREQ=YEARLY;BYMONTH=3;BYDAY=2SU
END:DAYLIGHT
BEGIN:STANDARD
TZOFFSETFROM:-0700
TZOFFSETTO:-0800
TZNAME:PST
DTSTART:19701101T020000
RRULE:FREQ=YEARLY;BYMONTH=11;BYDAY=1SU
END:STANDARD
END:VTIMEZONE
BEGIN:VEVENT
UID:1464587:Event:25931
DTSTAMP:20260423T052959Z
SUMMARY:LoveBomb
DESCRIPTION:Lovebomb\n\nA lover's soiree. Join us for sexy beats, sexy
  clothes, lingerie, burlesque\ndancers, and a whole lotta hubba hubba.
 \nAlso featuring a day spa for all your pampering needs and cute littl
 e gifts\nperfect for the occasion.\n\nSaturday, February 7th @ Club Mi
 ghty | 119 Utah Street\n2:00 Pm - 7:00 Pm\n\nThe mood gets swanky and 
 the girls are feeling sexy ~~ Burlesque ~~ from\n5:00 to 6:00.\n\nPerf
 ormances by:\nLes Moquettes Coquettes\nCheese Puff Girls\nMadame Aradi
 a - Tarot reader\nDesigners:\nS&G Clothing - www.sandgclothing.com\nHi
 psterr Belts - www.hipstirrbelts.com\nSilver Lucy Design - www.silverl
 ucydesign.com\nMiranda Caroligne - www.mirandacaroligne.com\nMinerva's
  Attennae\nCaraucci - www.caraucci.com\nMoDA Sandrita\nMedium Reality 
 - www.mediumreality.com\nLucid Dawn - www.lucidawn.com\nPhoenix Rising
 \nKiyumi Jewelry - www.kiyumijewelry.blogspot.com\nTamo Designs - www.
 tamodesign.com\nDanielle DeRoberts (Onerary) - www.onerary.com\nEdible
  Love Chocolates - www.ediblelove.com\nTiny Pots aka Lil Potsies\nKayo
  & Ella Mental - www.kayoanimeclothing.com\nsarah mcallister jewelry -
  www.goblingblinggo.com\nGhEttO GoLdiLocKs - www.ghettogoldilocks.com\
 nCuriouser&Curiouser - www.curiouserandcuriouser.vpweb.com\nSeapnoy\nD
 ark Garden - www.darkgarden.com\nWee Hats by Justin Credible\nfiftysev
 enthirtythree - www.fiftyseventhirtythree.com\nKucoon Jewelry - www.ku
 ccoondesigns.com\n\nFor more information visit https://trueskool.com/e
 vents/lovebomb-1
DTSTART;TZID=America/Los_Angeles:20090207T140000
DTEND;TZID=America/Los_Angeles:20090207T190000
CATEGORIES:fashion
LOCATION:Mighty, San Francisco
WEBSITE:http://www.tamodesign.com
URL:http://www.tamodesign.com
CONTACT:
ORGANIZER;CN="Carey Kopp":https://trueskool.com/profile/k85
ATTACH;FMTTYPE="image/jpeg":http://storage.ning.com/topology/rest/1.0/
 file/get/2247854164?profile=original
ATTENDEE;ROLE=REQ-PARTICIPANT;PARTSTAT=ACCEPTED;RSVP=TRUE;CN="Carey Ko
 pp":https://trueskool.com/profile/k85
END:VEVENT
END:VCALENDAR
