BEGIN:VCALENDAR
PRODID:NingEventWidget-v1
VERSION:2.0
METHOD:PUBLISH
BEGIN:VTIMEZONE
TZID:America/Los_Angeles
X-LIC-LOCATION:America/Los_Angeles
BEGIN:DAYLIGHT
TZOFFSETFROM:-0800
TZOFFSETTO:-0700
TZNAME:PDT
DTSTART:19700308T020000
RRULE:FREQ=YEARLY;BYMONTH=3;BYDAY=2SU
END:DAYLIGHT
BEGIN:STANDARD
TZOFFSETFROM:-0700
TZOFFSETTO:-0800
TZNAME:PST
DTSTART:19701101T020000
RRULE:FREQ=YEARLY;BYMONTH=11;BYDAY=1SU
END:STANDARD
END:VTIMEZONE
BEGIN:VEVENT
UID:1464587:Event:833729
DTSTAMP:20260424T012708Z
SUMMARY:Los Rakas Record Release Party
DESCRIPTION:Los Rakas wants to share their new record La Raka Zaza wit
 h the people. Come through January 25th for an official album release 
 experience featuring Los Rakas w Live Band with support from Epicenter
  Sound live in the mix. The venue boasts 2 bars and a full menu plus b
 ottle service and booths for those that want to take their night to th
 e next level. We'll see you at Cali's.\n\nFor more information visit h
 ttps://trueskool.com/events/los-rakas-record-release-party
DTSTART;TZID=America/Los_Angeles:20250125T210000
DTEND;TZID=America/Los_Angeles:20250126T020000
CATEGORIES:berkeley, "bay area", "san francisco", oakland
LOCATION:Club Cali
WEBSITE:https://www.eventbrite.com/e/los-rakas-album-release-party-tic
 kets-1119215265989?utm-campaign=social&amp;amp;amp;utm-content=attende
 eshare&amp;amp;amp;utm-medium=discovery&amp;amp;amp;utm-term=listing&a
 mp;amp;amp;utm-source=wsa&amp;amp;amp;aff=ebdsshwebmobile
URL:https://www.eventbrite.com/e/los-rakas-album-release-party-tickets
 -1119215265989?utm-campaign=social&amp;amp;amp;utm-content=attendeesha
 re&amp;amp;amp;utm-medium=discovery&amp;amp;amp;utm-term=listing&amp;a
 mp;amp;utm-source=wsa&amp;amp;amp;aff=ebdsshwebmobile
CONTACT:
ORGANIZER;CN="Cali's Nightclub":https://trueskool.com/profile/CalisNig
 htclub
ATTACH;FMTTYPE="image/jpeg":https://storage.ning.com/topology/rest/1.0
 /file/get/13349536088?profile=original
ATTENDEE;ROLE=REQ-PARTICIPANT;PARTSTAT=ACCEPTED;RSVP=TRUE;CN="Cali's N
 ightclub":https://trueskool.com/profile/CalisNightclub
END:VEVENT
END:VCALENDAR
