BEGIN:VCALENDAR
PRODID:NingEventWidget-v1
VERSION:2.0
METHOD:PUBLISH
BEGIN:VTIMEZONE
TZID:America/Los_Angeles
X-LIC-LOCATION:America/Los_Angeles
BEGIN:DAYLIGHT
TZOFFSETFROM:-0800
TZOFFSETTO:-0700
TZNAME:PDT
DTSTART:19700308T020000
RRULE:FREQ=YEARLY;BYMONTH=3;BYDAY=2SU
END:DAYLIGHT
BEGIN:STANDARD
TZOFFSETFROM:-0700
TZOFFSETTO:-0800
TZNAME:PST
DTSTART:19701101T020000
RRULE:FREQ=YEARLY;BYMONTH=11;BYDAY=1SU
END:STANDARD
END:VTIMEZONE
BEGIN:VEVENT
UID:1464587:Event:672018
DTSTAMP:20260421T022332Z
SUMMARY:LORDE & Run The Jewels
DESCRIPTION:LORDE\r\nRun The Jewels  Tove Styrke\r\nOracle Arena Oakla
 nd, CA\r\nTuesday, March 13, 2018 Show: 7:00pm\r\n$75.00 – Reserved 
 Seating $56.00 – Reserved Seating $38.00 – Reserved Seating\r\n*pl
 us applicable service fees\r\nTickets are also available service charg
 e free at The Fox Theater’s Box Office (located on the 19th street s
 ide of the theater) on show dates and on Fridays from noon – 7:00pm.
 \n\nFor more information visit https://trueskool.com/events/lorde-run-
 the-jewels
DTSTART;TZID=America/Los_Angeles:20180313T190000
DTEND;TZID=America/Los_Angeles:20180313T230000
CATEGORIES:"bay area", oakland, "san francisco", "san jose", berkeley
LOCATION:ORACLE ARENA, Oakland
WEBSITE:https://www.ticketmaster.com/event/1C0052CF743A14E6?camefrom=C
 FC_ANOTHERPLANET_web&amp;amp;brand=anotherplanet
URL:https://www.ticketmaster.com/event/1C0052CF743A14E6?camefrom=CFC_A
 NOTHERPLANET_web&amp;amp;brand=anotherplanet
CONTACT:
ORGANIZER;CN="Editor's Pick":https://trueskool.com/profile/RentheVinyl
 Archaeologist
ATTACH;FMTTYPE="image/jpeg":http://storage.ning.com/topology/rest/1.0/
 file/get/2248003617?profile=original
ATTENDEE;ROLE=REQ-PARTICIPANT;PARTSTAT=ACCEPTED;RSVP=TRUE;CN="Editor's
  Pick":https://trueskool.com/profile/RentheVinylArchaeologist
END:VEVENT
END:VCALENDAR
