BEGIN:VCALENDAR
PRODID:NingEventWidget-v1
VERSION:2.0
METHOD:PUBLISH
BEGIN:VTIMEZONE
TZID:America/Los_Angeles
X-LIC-LOCATION:America/Los_Angeles
BEGIN:DAYLIGHT
TZOFFSETFROM:-0800
TZOFFSETTO:-0700
TZNAME:PDT
DTSTART:19700308T020000
RRULE:FREQ=YEARLY;BYMONTH=3;BYDAY=2SU
END:DAYLIGHT
BEGIN:STANDARD
TZOFFSETFROM:-0700
TZOFFSETTO:-0800
TZNAME:PST
DTSTART:19701101T020000
RRULE:FREQ=YEARLY;BYMONTH=11;BYDAY=1SU
END:STANDARD
END:VTIMEZONE
BEGIN:VEVENT
UID:1464587:Event:26308
DTSTAMP:20260423T053230Z
SUMMARY:Long Live the Love: a Benefit for Art in Action's Green Youth 
 Media Center
DESCRIPTION:\n\nCyphertown Presents...\n\nLong Live the Love\na Benefi
 t for Art in Action's Green Youth Media Center\n\nFriday, Feb. 6th\n@ 
 the Shattuck Downlow\n2284 Shattuck Ave in Berkeley\n9pm-2am - 21+ - $
 10\n\nfeaturing:\n\nMC Azeem (Oaklyn Records - Bay Area)\nhttp://www.m
 yspace.com/mcazeem\n\nSolillaquists of Sound (On Tour with Michael Fra
 nti - Orlando, FL)\nhttp://www.myspace.com/solilla\n\nGoddess Alchemy 
 Project (Open Source Soul Floetics - Bay Area)\nhttp://www.myspace.com
 /goddessalchemyproject\n\nSake One (Local 1200/Pacific Standard Time -
  Bay Area)\nhttp://www.myspace.com/djsake1\n\nJ-Boogie featuring Aima 
 the Dreamer (OM Hip Hop/Mamaz - Bay Area)\nhttp://www.myspace.com/jboo
 giesdubtronicscience\nhttp://www.myspace.com/aimathedreamer\n\nTurf Un
 ity Artists (Cov Records - Oakland)\nhttp://www.myspace.com/covrecords
 \n\nThe community center where the Turf Unity Project has been offerin
 g programs to Bay Area youth for over 6 years has suddenly been closed
 . The center provided a safe place where youth could begin the transit
 ion away from the dangerous life of street hustling & move towards mor
 e empowering lifestyles. We are working to quickly raise funds to get 
 a new center up and running without loosing any of the precious moment
 um that these youth leaders have gathered with their effective project
 .\n\nThis event is part of the CommuniTree Festival, a week long festi
 val of Service Based Events. Please check it out and support: http://w
 ww.facebook.com/event.php?eid=50998421570\n\nHTTP://WWW.ARTINACTIONWOR
 LD.ORG\nHTTP://WWW.CYPHERTOWN.ORG\nHTTP://WWW.SHATTUCKDOWNLOW.COM\n\nF
 or more information visit https://trueskool.com/events/long-live-the-l
 ove-a-benefit
DTSTART;TZID=America/Los_Angeles:20090206T210000
DTEND;TZID=America/Los_Angeles:20090207T020000
CATEGORIES:hip, hop
LOCATION:Shattuck Downlow, Berkeley, CA
WEBSITE:http://www.shattuckdownlow.com
URL:http://www.shattuckdownlow.com
CONTACT:
ORGANIZER;CN="Cyphertown Productions":https://trueskool.com/profile/Cy
 phertownProductions
ATTACH;FMTTYPE="image/jpeg":http://storage.ning.com/topology/rest/1.0/
 file/get/2247854743?profile=original
ATTENDEE;ROLE=REQ-PARTICIPANT;PARTSTAT=ACCEPTED;RSVP=TRUE;CN="Cypherto
 wn Productions":https://trueskool.com/profile/CyphertownProductions
END:VEVENT
END:VCALENDAR
