BEGIN:VCALENDAR
PRODID:NingEventWidget-v1
VERSION:2.0
METHOD:PUBLISH
BEGIN:VTIMEZONE
TZID:America/Los_Angeles
X-LIC-LOCATION:America/Los_Angeles
BEGIN:DAYLIGHT
TZOFFSETFROM:-0800
TZOFFSETTO:-0700
TZNAME:PDT
DTSTART:19700308T020000
RRULE:FREQ=YEARLY;BYMONTH=3;BYDAY=2SU
END:DAYLIGHT
BEGIN:STANDARD
TZOFFSETFROM:-0700
TZOFFSETTO:-0800
TZNAME:PST
DTSTART:19701101T020000
RRULE:FREQ=YEARLY;BYMONTH=11;BYDAY=1SU
END:STANDARD
END:VTIMEZONE
BEGIN:VEVENT
UID:1464587:Event:51476
DTSTAMP:20260420T180908Z
SUMMARY:LLOYD BROWN LIVE IN CONCERT WITH BAND @ 19TH & BROADWAY NITECL
 UB
DESCRIPTION:United Kingdom Veteran Reggae Singer/Songwriter Lloyd Brow
 n's career has spanned over 25 years, a dozen albums and numerous hit 
 U. K and U.S. reggae singles and music industry awards to his credit. 
 Lloyd Brown has risen to the very pinnacle of his profession, and with
  a string of hit singles and critically acclaimed albums to his credit
 , is now hailed as one of this country’s best ever reggae singer/son
 gwriters. Lloyd has completed his 13th album \"For Your Consideration\
 " which was released on November 9 2009.\n\nLloyd Brown will be appear
 ing Live in Concert with Band on April 8, 2010 at 19th & Broadway Nite
 club, 17 Broadway Blvd, Fairfax, CA. Opening act: Renee Asteria, and D
 J Rebs of Soundproof will be spinning the best in Reggae and Dancehall
 .\n\nDoors Open @ 9:00 PM. Tickets $12 in advance $15 day of show. To 
 see and hear him is to truly know him.\n\nhttp://www.youtube.com/lloyd
 brownmusic#play/uploads/3/cafuujULmYM\n\nhttp://www.myspace.com/lloydb
 rownmusic\n\nFor more information visit https://trueskool.com/events/l
 loyd-brown-live-in-concert
DTSTART;TZID=America/Los_Angeles:20100408T210000
DTEND;TZID=America/Los_Angeles:20100409T020000
CATEGORIES:reggae, concert
LOCATION:19th & Broadway Nite Club
WEBSITE:http://www.19broadway.com/
URL:http://www.19broadway.com/
CONTACT:415-459-0293
ORGANIZER:Denise Gore & Reyna Racines (19th & Broadway)
ATTACH;FMTTYPE="image/jpeg":http://storage.ning.com/topology/rest/1.0/
 file/get/2247875632?profile=original
ATTENDEE;ROLE=REQ-PARTICIPANT;PARTSTAT=ACCEPTED;RSVP=TRUE;CN="denise g
 ore":https://trueskool.com/profile/denisegore
END:VEVENT
END:VCALENDAR
