BEGIN:VCALENDAR
PRODID:NingEventWidget-v1
VERSION:2.0
METHOD:PUBLISH
BEGIN:VTIMEZONE
TZID:America/Los_Angeles
X-LIC-LOCATION:America/Los_Angeles
BEGIN:DAYLIGHT
TZOFFSETFROM:-0800
TZOFFSETTO:-0700
TZNAME:PDT
DTSTART:19700308T020000
RRULE:FREQ=YEARLY;BYMONTH=3;BYDAY=2SU
END:DAYLIGHT
BEGIN:STANDARD
TZOFFSETFROM:-0700
TZOFFSETTO:-0800
TZNAME:PST
DTSTART:19701101T020000
RRULE:FREQ=YEARLY;BYMONTH=11;BYDAY=1SU
END:STANDARD
END:VTIMEZONE
BEGIN:VEVENT
UID:1464587:Event:66974
DTSTAMP:20260420T131000Z
SUMMARY:\"LIVICATION SPLASH\" FT. SPRAGGA BENZ, PLUS MORE...
DESCRIPTION:CLICK HERE TO WIN A PAIR OF TICKETS: http://www.trueskool.
 com/group/wintickets\n\n\nSATURDAY, NOVEMBER 6\nRED SQUARE PRODUCTIONS
  and KARIBBEAN CITY\n\"LIVICATION SPLASH\" 2ND ANNUAL MEMORIAL BASH\nT
 RIBUTE TO SPRAGGA BENZ' LATE SON \"CARLYLE\"\nWHO PASSED ON 8/23/08\n\
 nFEATURING\nSPRAGGA BENZ, BRIGGY BENZ, BAD GAL BAMBI AND MAGAZEEN FROM
  MAYBACH MUSIC...\n\nDEE JAY HYPE AND IRIE DOLE....\n\nWEST COAST ALBU
 M LAUNCH PARTY \"SHOTTACULTURE\"\n\n@ NEW KARIBBEAN CITY, 1408 Webster
  St., Oakland, CA\n21+. DOORS 8:30PM. PRESALE TICKETS: $15\nBuy Ticket
 s\n \n\nFor more information visit https://trueskool.com/events/livica
 tion-splash-ft-spragga
DTSTART;TZID=America/Los_Angeles:20101106T203000
DTEND;TZID=America/Los_Angeles:20101107T020000
CATEGORIES:oakland, ca
LOCATION:Karibbean City, Oakland
WEBSITE:HTTP://WWW.TICKETWEB.COM
URL:HTTP://WWW.TICKETWEB.COM
CONTACT:
ORGANIZER:RED SQUARE PRODUCTIONS and KARIBBEAN CITY
ATTACH;FMTTYPE="image/jpeg":http://storage.ning.com/topology/rest/1.0/
 file/get/2247883582?profile=original
ATTENDEE;ROLE=REQ-PARTICIPANT;PARTSTAT=ACCEPTED;RSVP=TRUE;CN="Ren the 
 Vinyl Archaeologist":https://trueskool.com/profile/xh51jvilojur
END:VEVENT
END:VCALENDAR
