BEGIN:VCALENDAR
PRODID:NingEventWidget-v1
VERSION:2.0
METHOD:PUBLISH
BEGIN:VTIMEZONE
TZID:America/Los_Angeles
X-LIC-LOCATION:America/Los_Angeles
BEGIN:DAYLIGHT
TZOFFSETFROM:-0800
TZOFFSETTO:-0700
TZNAME:PDT
DTSTART:19700308T020000
RRULE:FREQ=YEARLY;BYMONTH=3;BYDAY=2SU
END:DAYLIGHT
BEGIN:STANDARD
TZOFFSETFROM:-0700
TZOFFSETTO:-0800
TZNAME:PST
DTSTART:19701101T020000
RRULE:FREQ=YEARLY;BYMONTH=11;BYDAY=1SU
END:STANDARD
END:VTIMEZONE
BEGIN:VEVENT
UID:1464587:Event:53941
DTSTAMP:20260421T054742Z
SUMMARY:Live performance by Keldamuzik aka Diva!
DESCRIPTION:\n\nFor more information visit https://trueskool.com/event
 s/live-performance-by-keldamuzik
DTSTART;TZID=America/Los_Angeles:20100415T210000
DTEND;TZID=America/Los_Angeles:20100416T000000
CATEGORIES:hip, hop
LOCATION:British Bank Club
WEBSITE:
URL:
CONTACT:
ORGANIZER:Front Office Media
ATTACH;FMTTYPE="image/jpeg":http://storage.ning.com/topology/rest/1.0/
 file/get/2247876938?profile=original
ATTENDEE;ROLE=REQ-PARTICIPANT;PARTSTAT=ACCEPTED;RSVP=TRUE;CN="Golddigg
 a Ent/Keldamuzik":https://trueskool.com/profile/GolddiggaEntKeldamuzik
END:VEVENT
END:VCALENDAR
