BEGIN:VCALENDAR
PRODID:NingEventWidget-v1
VERSION:2.0
METHOD:PUBLISH
BEGIN:VTIMEZONE
TZID:America/Los_Angeles
X-LIC-LOCATION:America/Los_Angeles
BEGIN:DAYLIGHT
TZOFFSETFROM:-0800
TZOFFSETTO:-0700
TZNAME:PDT
DTSTART:19700308T020000
RRULE:FREQ=YEARLY;BYMONTH=3;BYDAY=2SU
END:DAYLIGHT
BEGIN:STANDARD
TZOFFSETFROM:-0700
TZOFFSETTO:-0800
TZNAME:PST
DTSTART:19701101T020000
RRULE:FREQ=YEARLY;BYMONTH=11;BYDAY=1SU
END:STANDARD
END:VTIMEZONE
BEGIN:VEVENT
UID:1464587:Event:648200
DTSTAMP:20260421T125243Z
SUMMARY:Live Action Music
DESCRIPTION:The Live Action Music concert series showcases some of the
  best and exciting upcoming hiphop/rap artists from across the US. The
  line-up for this event includes: Quinteis-TDT Prod + Co, Imerald Brow
 n, Blaze Hon, Youngroka, TeamGummie and S.O.N.S. Hostess of the evenin
 g will be Eye'z. Come check out these talented performers, drink + soc
 ialize and a have chance to receive a gift & win some cool prizes. It 
 takes place Sun May 29th 9pm @ The Ivy Room located at 860 San Pablo A
 ve in Albany, CA. There's no cover charge and all people 21+ are welco
 med to attend. (To be eligible to receive gift or win prices, guests m
 ust register for a free ticket and bring it with them to the event)\n\
 nFor more information visit https://trueskool.com/events/live-action-m
 usic
DTSTART;TZID=America/Los_Angeles:20160529T210000
DTEND;TZID=America/Los_Angeles:20160529T230000
CATEGORIES:san, francisco, albany, bay, area, oakland, richmond, berke
 ley
LOCATION:The Ivy Room, Albany, CA
WEBSITE:http://liveactionmusic.eventbrite.com
URL:http://liveactionmusic.eventbrite.com
CONTACT:
ORGANIZER:GRM780
ATTACH;FMTTYPE="image/jpeg":http://storage.ning.com/topology/rest/1.0/
 file/get/2247988249?profile=original
ATTENDEE;ROLE=REQ-PARTICIPANT;PARTSTAT=ACCEPTED;RSVP=TRUE;CN="D Blk":h
 ttps://trueskool.com/profile/DBlk
END:VEVENT
END:VCALENDAR
