BEGIN:VCALENDAR
PRODID:NingEventWidget-v1
VERSION:2.0
METHOD:PUBLISH
BEGIN:VTIMEZONE
TZID:America/Los_Angeles
X-LIC-LOCATION:America/Los_Angeles
BEGIN:DAYLIGHT
TZOFFSETFROM:-0800
TZOFFSETTO:-0700
TZNAME:PDT
DTSTART:19700308T020000
RRULE:FREQ=YEARLY;BYMONTH=3;BYDAY=2SU
END:DAYLIGHT
BEGIN:STANDARD
TZOFFSETFROM:-0700
TZOFFSETTO:-0800
TZNAME:PST
DTSTART:19701101T020000
RRULE:FREQ=YEARLY;BYMONTH=11;BYDAY=1SU
END:STANDARD
END:VTIMEZONE
BEGIN:VEVENT
UID:1464587:Event:41627
DTSTAMP:20260421T142618Z
SUMMARY:Little Dragon (Win Tickets)
DESCRIPTION:WIN A PAIR OF TICKETS. Send your FULL NAME to trueskoolcon
 test@gmail.com with \"Little Dragon\" in the Subject line. Winner will
  be drawn randomly and announced 3 days prior to the event.\n\n\nWedne
 sday, November 04\nKCRW & Club Mercy present\nLittle Dragon\nNite Jewe
 l\n\nThe Independent\n628 Divisadero (btwn Grove & Hayes)\nSan Francis
 co CA 94117\ndoors 8:30PM\nshow 9:00PM\nBuy Tickets\n\nTicket contest 
 powered by:\nhttp://www.trueskool.com\n\n\n\n\nFor more information vi
 sit https://trueskool.com/events/little-dragon-win-tickets
DTSTART;TZID=America/Los_Angeles:20091104T203000
DTEND;TZID=America/Los_Angeles:20091104T230000
CATEGORIES:electro, pop
LOCATION:THE INDEPENDENT - SAN FRANCISCO, CA
WEBSITE:http://www.apeconcerts.com/popArtist07.cfm?cID=2190
URL:http://www.apeconcerts.com/popArtist07.cfm?cID=2190
CONTACT:
ORGANIZER:Another Planet Entertainment
ATTACH;FMTTYPE="image/jpeg":http://storage.ning.com/topology/rest/1.0/
 file/get/2247856685?profile=original
ATTENDEE;ROLE=REQ-PARTICIPANT;PARTSTAT=ACCEPTED;RSVP=TRUE;CN="Ren the 
 Vinyl Archaeologist":https://trueskool.com/profile/xh51jvilojur
END:VEVENT
END:VCALENDAR
