BEGIN:VCALENDAR
PRODID:NingEventWidget-v1
VERSION:2.0
METHOD:PUBLISH
BEGIN:VTIMEZONE
TZID:America/Los_Angeles
X-LIC-LOCATION:America/Los_Angeles
BEGIN:DAYLIGHT
TZOFFSETFROM:-0800
TZOFFSETTO:-0700
TZNAME:PDT
DTSTART:19700308T020000
RRULE:FREQ=YEARLY;BYMONTH=3;BYDAY=2SU
END:DAYLIGHT
BEGIN:STANDARD
TZOFFSETFROM:-0700
TZOFFSETTO:-0800
TZNAME:PST
DTSTART:19701101T020000
RRULE:FREQ=YEARLY;BYMONTH=11;BYDAY=1SU
END:STANDARD
END:VTIMEZONE
BEGIN:VEVENT
UID:1464587:Event:32392
DTSTAMP:20260421T094719Z
SUMMARY:LITTLE DRAGON w/ Happy Mayfield & DJ Sake 1
DESCRIPTION:KCRW presents\n\nWednesday May 20\n\nLITTLE DRAGON\n+Happy
  Mayfield & DJ Sake1\n\nFor more information visit https://trueskool.c
 om/events/little-dragon-w-happy-mayfield
DTSTART;TZID=America/Los_Angeles:20090520T210000
DTEND;TZID=America/Los_Angeles:20090521T000000
CATEGORIES:"soul/other/other"
LOCATION:The Independent, San Francisco
WEBSITE:http://www.clubmercy.com
URL:http://www.clubmercy.com
CONTACT:
ORGANIZER:ClubMercy/KCRW
ATTACH;FMTTYPE="image/jpeg":http://storage.ning.com/topology/rest/1.0/
 file/get/2247856685?profile=original
ATTENDEE;ROLE=REQ-PARTICIPANT;PARTSTAT=ACCEPTED;RSVP=TRUE;CN=iggy:http
 s://trueskool.com/profile/iggy
END:VEVENT
END:VCALENDAR
