BEGIN:VCALENDAR
PRODID:NingEventWidget-v1
VERSION:2.0
METHOD:PUBLISH
BEGIN:VTIMEZONE
TZID:America/Los_Angeles
X-LIC-LOCATION:America/Los_Angeles
BEGIN:DAYLIGHT
TZOFFSETFROM:-0800
TZOFFSETTO:-0700
TZNAME:PDT
DTSTART:19700308T020000
RRULE:FREQ=YEARLY;BYMONTH=3;BYDAY=2SU
END:DAYLIGHT
BEGIN:STANDARD
TZOFFSETFROM:-0700
TZOFFSETTO:-0800
TZNAME:PST
DTSTART:19701101T020000
RRULE:FREQ=YEARLY;BYMONTH=11;BYDAY=1SU
END:STANDARD
END:VTIMEZONE
BEGIN:VEVENT
UID:1464587:Event:53432
DTSTAMP:20260421T102526Z
SUMMARY:Little Dragon
DESCRIPTION:Wednesday April 14th\nLittle Dragon\nplus guests\nVV Brown
  & HOTTUB\n\nThe Independent\n628 Divisadero Street, San Francisco, CA
 \n21+\ndoors at 9pm\ntickets $20 - adv $30 door\nBuy Tickets:\n\n\n \n
 \n\n\nFor more information visit https://trueskool.com/events/little-d
 ragon-2
DTSTART;TZID=America/Los_Angeles:20100414T210000
DTEND;TZID=America/Los_Angeles:20100415T020000
CATEGORIES:hip, hop, "r&b", electro, trip, downtempo
LOCATION:The Independent, San Francisco, CA
WEBSITE:http://www.ticketweb.com/t3/sale/SaleEventDetail?dispatch=load
 SelectionData&eventId=1141175
URL:http://www.ticketweb.com/t3/sale/SaleEventDetail?dispatch=loadSele
 ctionData&eventId=1141175
CONTACT:
ORGANIZER;CN="Editor's Pick":https://trueskool.com/profile/RentheVinyl
 Archaeologist
ATTACH;FMTTYPE="image/jpeg":http://storage.ning.com/topology/rest/1.0/
 file/get/2247876588?profile=original
ATTENDEE;ROLE=REQ-PARTICIPANT;PARTSTAT=ACCEPTED;RSVP=TRUE;CN="Editor's
  Pick":https://trueskool.com/profile/RentheVinylArchaeologist
END:VEVENT
END:VCALENDAR
