BEGIN:VCALENDAR
PRODID:NingEventWidget-v1
VERSION:2.0
METHOD:PUBLISH
BEGIN:VTIMEZONE
TZID:America/Los_Angeles
X-LIC-LOCATION:America/Los_Angeles
BEGIN:DAYLIGHT
TZOFFSETFROM:-0800
TZOFFSETTO:-0700
TZNAME:PDT
DTSTART:19700308T020000
RRULE:FREQ=YEARLY;BYMONTH=3;BYDAY=2SU
END:DAYLIGHT
BEGIN:STANDARD
TZOFFSETFROM:-0700
TZOFFSETTO:-0800
TZNAME:PST
DTSTART:19701101T020000
RRULE:FREQ=YEARLY;BYMONTH=11;BYDAY=1SU
END:STANDARD
END:VTIMEZONE
BEGIN:VEVENT
UID:1464587:Event:827103
DTSTAMP:20260421T171212Z
SUMMARY:Limp Bizkit
DESCRIPTION:Limp Bizkit\r\nFriday Aug 23, 2024 6:30PM\r\nToyota Pavili
 on At Concord 2000 Kirker Pass Rd, Concord, CA 94521\n\nFor more infor
 mation visit https://trueskool.com/events/limp-bizkit
DTSTART;TZID=America/Los_Angeles:20240823T180000
DTEND;TZID=America/Los_Angeles:20240823T190000
CATEGORIES:"bay area", oakland, "san francisco", "san jose", berkeley
LOCATION:Toyota Pavilion, Concord
WEBSITE:https://www.ticketsqueeze.com/tickets/6132039/buy-tickets
URL:https://www.ticketsqueeze.com/tickets/6132039/buy-tickets
CONTACT:
ORGANIZER;CN="Editor's Pick":https://trueskool.com/profile/RentheVinyl
 Archaeologist
ATTACH;FMTTYPE="image/jpeg":https://storage.ning.com/topology/rest/1.0
 /file/get/12360585070?profile=original
ATTENDEE;ROLE=REQ-PARTICIPANT;PARTSTAT=ACCEPTED;RSVP=TRUE;CN="Editor's
  Pick":https://trueskool.com/profile/RentheVinylArchaeologist
END:VEVENT
END:VCALENDAR
