BEGIN:VCALENDAR
PRODID:NingEventWidget-v1
VERSION:2.0
METHOD:PUBLISH
BEGIN:VTIMEZONE
TZID:America/Los_Angeles
X-LIC-LOCATION:America/Los_Angeles
BEGIN:DAYLIGHT
TZOFFSETFROM:-0800
TZOFFSETTO:-0700
TZNAME:PDT
DTSTART:19700308T020000
RRULE:FREQ=YEARLY;BYMONTH=3;BYDAY=2SU
END:DAYLIGHT
BEGIN:STANDARD
TZOFFSETFROM:-0700
TZOFFSETTO:-0800
TZNAME:PST
DTSTART:19701101T020000
RRULE:FREQ=YEARLY;BYMONTH=11;BYDAY=1SU
END:STANDARD
END:VTIMEZONE
BEGIN:VEVENT
UID:1464587:Event:35926
DTSTAMP:20260420T230418Z
SUMMARY:LIL WAYNE with DRAKE & YOUNG JEEZY
DESCRIPTION:\n\nLIL WAYNE PERFORMING LIVE\n\nwith DRAKE & YOUNG JEEZY\
 n\nSATURDAY AUGUST 15th\n\n@ Sleep Train Pavilion\nConcord, Ca\n\nALL 
 AGES\n\nFor more information visit https://trueskool.com/events/lil-wa
 yne-with-drake-young
DTSTART;TZID=America/Los_Angeles:20090815T190000
DTEND;TZID=America/Los_Angeles:20090815T230000
CATEGORIES:hip, hop
LOCATION:Sleep Train Pavilion, Concord, Ca
WEBSITE:http://www.livenation.com/edp/eventId/409694/
URL:http://www.livenation.com/edp/eventId/409694/
CONTACT:
ORGANIZER:Live Nation
ATTACH;FMTTYPE="image/jpeg":http://storage.ning.com/topology/rest/1.0/
 file/get/2247853703?profile=original
ATTENDEE;ROLE=REQ-PARTICIPANT;PARTSTAT=ACCEPTED;RSVP=TRUE;CN="Ren the 
 Vinyl Archaeologist":https://trueskool.com/profile/xh51jvilojur
END:VEVENT
END:VCALENDAR
