BEGIN:VCALENDAR
PRODID:NingEventWidget-v1
VERSION:2.0
METHOD:PUBLISH
BEGIN:VTIMEZONE
TZID:America/Los_Angeles
X-LIC-LOCATION:America/Los_Angeles
BEGIN:DAYLIGHT
TZOFFSETFROM:-0800
TZOFFSETTO:-0700
TZNAME:PDT
DTSTART:19700308T020000
RRULE:FREQ=YEARLY;BYMONTH=3;BYDAY=2SU
END:DAYLIGHT
BEGIN:STANDARD
TZOFFSETFROM:-0700
TZOFFSETTO:-0800
TZNAME:PST
DTSTART:19701101T020000
RRULE:FREQ=YEARLY;BYMONTH=11;BYDAY=1SU
END:STANDARD
END:VTIMEZONE
BEGIN:VEVENT
UID:1464587:Event:672105
DTSTAMP:20260421T191230Z
SUMMARY:LETTUCE
DESCRIPTION:ENTER TO WIN A PAIR OF TICKETS. WINNER WILL BE DRAWN RANDO
 MLY AND ANNOUNCED 2 DAYS PRIOR TO EVENT. \r\n\r\nFriday, February 16, 
 2018\r\nLETTUCE\r\nThe Motet\r\n\r\nFox Theater, Oakland, CA Show: 8:0
 0pm\r\n$31.50 – General Admission Floor $31.50 – Reserved Balcony\
 r\n>> BUY TICKETS\r\n\r\n\r\n\n\nFor more information visit https://tr
 ueskool.com/events/lettuce-2
DTSTART;TZID=America/Los_Angeles:20180216T200000
DTEND;TZID=America/Los_Angeles:20180216T230000
CATEGORIES:"bay area", oakland, "san francisco", "san jose", berkeley
LOCATION:Fox Theater, Oakland
WEBSITE:https://www.ticketmaster.com/lettuce-oakland-california-02-16-
 2018/event/1C00536AC2984B0C?camefrom=CFC_ANOTHERPLANET_web&amp;amp;bra
 nd=anotherplanet
URL:https://www.ticketmaster.com/lettuce-oakland-california-02-16-2018
 /event/1C00536AC2984B0C?camefrom=CFC_ANOTHERPLANET_web&amp;amp;brand=a
 notherplanet
CONTACT:
ORGANIZER;CN="Editor's Pick":https://trueskool.com/profile/RentheVinyl
 Archaeologist
ATTACH;FMTTYPE="image/jpeg":http://storage.ning.com/topology/rest/1.0/
 file/get/2248004947?profile=original
ATTENDEE;ROLE=REQ-PARTICIPANT;PARTSTAT=ACCEPTED;RSVP=TRUE;CN=Melissa:h
 ttps://trueskool.com/profile/Melissa
ATTENDEE;ROLE=REQ-PARTICIPANT;PARTSTAT=ACCEPTED;RSVP=TRUE;CN="Elisa Bj
 eldanes":https://trueskool.com/profile/ElisaBjeldanes
ATTENDEE;ROLE=REQ-PARTICIPANT;PARTSTAT=ACCEPTED;RSVP=TRUE;CN="Editor's
  Pick":https://trueskool.com/profile/RentheVinylArchaeologist
END:VEVENT
END:VCALENDAR
