BEGIN:VCALENDAR
PRODID:NingEventWidget-v1
VERSION:2.0
METHOD:PUBLISH
BEGIN:VTIMEZONE
TZID:America/Los_Angeles
X-LIC-LOCATION:America/Los_Angeles
BEGIN:DAYLIGHT
TZOFFSETFROM:-0800
TZOFFSETTO:-0700
TZNAME:PDT
DTSTART:19700308T020000
RRULE:FREQ=YEARLY;BYMONTH=3;BYDAY=2SU
END:DAYLIGHT
BEGIN:STANDARD
TZOFFSETFROM:-0700
TZOFFSETTO:-0800
TZNAME:PST
DTSTART:19701101T020000
RRULE:FREQ=YEARLY;BYMONTH=11;BYDAY=1SU
END:STANDARD
END:VTIMEZONE
BEGIN:VEVENT
UID:1464587:Event:667001
DTSTAMP:20260421T023539Z
SUMMARY:Les Nubians
DESCRIPTION:Les NubiansNaima Shalhoub, DJ Leydis\r\nShow: 9:00 pm (Doo
 rs: 8:00 pm) Ages 18 and UpUnder 21 must buy $5 drink ticket at the do
 or.$22 ADV / $25 DOS\r\nThe New Parish, Oakland, CA1743 San Pablo Ave,
  Oakland, CA Phone: +1 510-444-7474\n\nFor more information visit http
 s://trueskool.com/events/les-nubians
DTSTART;TZID=America/Los_Angeles:20170916T210000
DTEND;TZID=America/Los_Angeles:20170916T230000
CATEGORIES:"san francisco", oakland, berkley, "san jose", "bay area"
LOCATION:The New Parish
WEBSITE:http://www.ticketweb.com/t3/sale/SaleEventDetail?dispatch=load
 SelectionData&amp;eventId=7583985&amp;pl=newparish&amp;REFID=clientsit
 ewp
URL:http://www.ticketweb.com/t3/sale/SaleEventDetail?dispatch=loadSele
 ctionData&amp;eventId=7583985&amp;pl=newparish&amp;REFID=clientsitewp
CONTACT:
ORGANIZER;CN="Editor's Pick":https://trueskool.com/profile/RentheVinyl
 Archaeologist
ATTACH;FMTTYPE="image/jpeg":http://storage.ning.com/topology/rest/1.0/
 file/get/2248000690?profile=original
ATTENDEE;ROLE=REQ-PARTICIPANT;PARTSTAT=ACCEPTED;RSVP=TRUE;CN="Editor's
  Pick":https://trueskool.com/profile/RentheVinylArchaeologist
END:VEVENT
END:VCALENDAR
