BEGIN:VCALENDAR
PRODID:NingEventWidget-v1
VERSION:2.0
METHOD:PUBLISH
BEGIN:VTIMEZONE
TZID:America/Los_Angeles
X-LIC-LOCATION:America/Los_Angeles
BEGIN:DAYLIGHT
TZOFFSETFROM:-0800
TZOFFSETTO:-0700
TZNAME:PDT
DTSTART:19700308T020000
RRULE:FREQ=YEARLY;BYMONTH=3;BYDAY=2SU
END:DAYLIGHT
BEGIN:STANDARD
TZOFFSETFROM:-0700
TZOFFSETTO:-0800
TZNAME:PST
DTSTART:19701101T020000
RRULE:FREQ=YEARLY;BYMONTH=11;BYDAY=1SU
END:STANDARD
END:VTIMEZONE
BEGIN:VEVENT
UID:1464587:Event:219722
DTSTAMP:20260421T005710Z
SUMMARY:Les Nubians (WIN TICKETS)
DESCRIPTION:\n Friday, Aug 2 LES NUBIANS\n8pm $32 10pm $28\nYoshi's Sa
 n Francisco 1330 Fillmore Street SF, CA 94115 Phone: 415.655.5600 » B
 UY TICKETS\n\nFor more information visit https://trueskool.com/events/
 les-nubians-win-tickets-2
DTSTART;TZID=America/Los_Angeles:20130802T200000
DTEND;TZID=America/Los_Angeles:20130802T233000
CATEGORIES:"bay area", "san francisco"
LOCATION:Yoshi's, San Francisco
WEBSITE:http://sfyoshis.inticketing.com/evlist.php?events=search&searc
 hstr=les+nubians
URL:http://sfyoshis.inticketing.com/evlist.php?events=search&searchstr
 =les+nubians
CONTACT:
ORGANIZER:Yoshi's
ATTACH;FMTTYPE="image/jpeg":http://storage.ning.com/topology/rest/1.0/
 file/get/2247943811?profile=original
ATTENDEE;ROLE=REQ-PARTICIPANT;PARTSTAT=ACCEPTED;RSVP=TRUE;CN="Anne Sal
 vatori":https://trueskool.com/profile/AnneSalvatori
ATTENDEE;ROLE=REQ-PARTICIPANT;PARTSTAT=ACCEPTED;RSVP=TRUE;CN="Kerry Gr
 aham-Walter":https://trueskool.com/profile/KerryGrahamWalter
ATTENDEE;ROLE=REQ-PARTICIPANT;PARTSTAT=ACCEPTED;RSVP=TRUE;CN=Yvette:ht
 tps://trueskool.com/profile/Yvette
ATTENDEE;ROLE=REQ-PARTICIPANT;PARTSTAT=ACCEPTED;RSVP=TRUE;CN="Sarah - 
 Reggae Gyals":https://trueskool.com/profile/SarahReggaeGyals
ATTENDEE;ROLE=REQ-PARTICIPANT;PARTSTAT=ACCEPTED;RSVP=TRUE;CN="Adia Ham
 ilton":https://trueskool.com/profile/AdiaHamilton
ATTENDEE;ROLE=REQ-PARTICIPANT;PARTSTAT=ACCEPTED;RSVP=TRUE;CN="Maximili
 ano Arturo Cortes":https://trueskool.com/profile/MaximilianoArturoCort
 es
ATTENDEE;ROLE=REQ-PARTICIPANT;PARTSTAT=ACCEPTED;RSVP=TRUE;CN="Kimon Fl
 anagan":https://trueskool.com/profile/KimonFlanagan
ATTENDEE;ROLE=REQ-PARTICIPANT;PARTSTAT=ACCEPTED;RSVP=TRUE;CN="Persimmo
 n Smith":https://trueskool.com/profile/PersimmonSmith
ATTENDEE;ROLE=REQ-PARTICIPANT;PARTSTAT=ACCEPTED;RSVP=TRUE;CN="Monica M
  Dacumos":https://trueskool.com/profile/MonicaMDacumos
ATTENDEE;ROLE=REQ-PARTICIPANT;PARTSTAT=ACCEPTED;RSVP=TRUE;CN="Joseph K
 im":https://trueskool.com/profile/JosephKim
ATTENDEE;ROLE=REQ-PARTICIPANT;PARTSTAT=ACCEPTED;RSVP=TRUE;CN="Donte Ha
 rrison":https://trueskool.com/profile/DonteHarrison
ATTENDEE;ROLE=REQ-PARTICIPANT;PARTSTAT=ACCEPTED;RSVP=TRUE;CN="Tali Ben
 attar":https://trueskool.com/profile/TaliBenattar550
ATTENDEE;ROLE=REQ-PARTICIPANT;PARTSTAT=ACCEPTED;RSVP=TRUE;CN="Francis 
 Camaquin":https://trueskool.com/profile/FrancisC
ATTENDEE;ROLE=REQ-PARTICIPANT;PARTSTAT=ACCEPTED;RSVP=TRUE;CN=maradona1
 0:https://trueskool.com/profile/maradona10
ATTENDEE;ROLE=REQ-PARTICIPANT;PARTSTAT=ACCEPTED;RSVP=TRUE;CN="Laneisha
  Whitfield":https://trueskool.com/profile/LaneishaWhitfield
ATTENDEE;ROLE=REQ-PARTICIPANT;PARTSTAT=ACCEPTED;RSVP=TRUE;CN="Nancy La
 ws":https://trueskool.com/profile/NancyLaws
ATTENDEE;ROLE=REQ-PARTICIPANT;PARTSTAT=ACCEPTED;RSVP=TRUE;CN="Gideon R
 ector":https://trueskool.com/profile/GideonRector
ATTENDEE;ROLE=REQ-PARTICIPANT;PARTSTAT=ACCEPTED;RSVP=TRUE;CN=RCD2:http
 s://trueskool.com/profile/Rcd2
ATTENDEE;ROLE=REQ-PARTICIPANT;PARTSTAT=ACCEPTED;RSVP=TRUE;CN="YUN-LING
  WANG":https://trueskool.com/profile/YUNLINGWANG
ATTENDEE;ROLE=REQ-PARTICIPANT;PARTSTAT=ACCEPTED;RSVP=TRUE;CN="Frank Vi
 loria":https://trueskool.com/profile/DJILLusive
ATTENDEE;ROLE=REQ-PARTICIPANT;PARTSTAT=ACCEPTED;RSVP=TRUE;CN="Paulie R
 hyme":https://trueskool.com/profile/PaulieRhyme
ATTENDEE;ROLE=REQ-PARTICIPANT;PARTSTAT=ACCEPTED;RSVP=TRUE;CN="Editor's
  Pick":https://trueskool.com/profile/RentheVinylArchaeologist
ATTENDEE;ROLE=REQ-PARTICIPANT;PARTSTAT=TENTATIVE;RSVP=TRUE;CN="Jaimey 
 Garrett":https://trueskool.com/profile/JaimeyGarrett
END:VEVENT
END:VCALENDAR
